BEGIN:VCALENDAR
VERSION:2.0
PRODID:-//Comunidade Sementes do Verbo - ECPv6.15.20//NONSGML v1.0//EN
CALSCALE:GREGORIAN
METHOD:PUBLISH
X-WR-CALNAME:Comunidade Sementes do Verbo
X-ORIGINAL-URL:https://sementesdoverbo.org
X-WR-CALDESC:Eventos para Comunidade Sementes do Verbo
REFRESH-INTERVAL;VALUE=DURATION:PT1H
X-Robots-Tag:noindex
X-PUBLISHED-TTL:PT1H
BEGIN:VTIMEZONE
TZID:America/Sao_Paulo
BEGIN:STANDARD
TZOFFSETFROM:-0300
TZOFFSETTO:-0300
TZNAME:-03
DTSTART:20250101T000000
END:STANDARD
END:VTIMEZONE
BEGIN:VEVENT
DTSTART;VALUE=DATE:20260418
DTEND;VALUE=DATE:20260419
DTSTAMP:20260426T001834
CREATED:20260303T165029Z
LAST-MODIFIED:20260303T165029Z
UID:21266-1776470400-1776556799@sementesdoverbo.org
SUMMARY:Tocantins – Palmas | Encontro para profissionáos de Saúde
DESCRIPTION:Encontro para profissionáos de Saúde \n“Curados para amar e servir: a comunhão que gera vida.” \nPregado pela Comunidade SdV
URL:https://sementesdoverbo.org/eventos/tocantins-palmas-encontro-para-profissionaos-de-saude/
LOCATION:Palmas – TO\, Loteamento Área Verde Palmas\, Palmas\, tocantins
CATEGORIES:Retiro
END:VEVENT
END:VCALENDAR