BEGIN:VCALENDAR
VERSION:2.0
PRODID:-//Comunidade Sementes do Verbo - ECPv6.15.20//NONSGML v1.0//EN
CALSCALE:GREGORIAN
METHOD:PUBLISH
X-WR-CALNAME:Comunidade Sementes do Verbo
X-ORIGINAL-URL:https://sementesdoverbo.org
X-WR-CALDESC:Eventos para Comunidade Sementes do Verbo
REFRESH-INTERVAL;VALUE=DURATION:PT1H
X-Robots-Tag:noindex
X-PUBLISHED-TTL:PT1H
BEGIN:VTIMEZONE
TZID:America/Sao_Paulo
BEGIN:STANDARD
TZOFFSETFROM:-0300
TZOFFSETTO:-0300
TZNAME:-03
DTSTART:20250101T000000
END:STANDARD
END:VTIMEZONE
BEGIN:VEVENT
DTSTART;TZID=America/Sao_Paulo:20260430T183000
DTEND;TZID=America/Sao_Paulo:20260504T140000
DTSTAMP:20260426T001254
CREATED:20260303T165224Z
LAST-MODIFIED:20260305T143003Z
UID:21268-1777573800-1777903200@sementesdoverbo.org
SUMMARY:Tocantins – Palmas | Retiro do Carisma Sementes do Verbo
DESCRIPTION:Retiro do Carisma Sementes do Verbo \nPregado pela Comunidade SdV
URL:https://sementesdoverbo.org/eventos/tocantins-palmas-retiro-do-carisma-sementes-do-verbo/
LOCATION:Palmas – TO\, Loteamento Área Verde Palmas\, Palmas\, tocantins
CATEGORIES:Retiro
END:VEVENT
BEGIN:VEVENT
DTSTART;VALUE=DATE:20260509
DTEND;VALUE=DATE:20260510
DTSTAMP:20260426T001254
CREATED:20260303T165403Z
LAST-MODIFIED:20260303T165403Z
UID:21270-1778284800-1778371199@sementesdoverbo.org
SUMMARY:Tocantins – Palmas | Nos braços da mãe
DESCRIPTION:Nos braços da mãe \n“Sob a vossa proteção nos refugiamos\, Santa Mãe de Deus.” \nPregado por Ir. Ana Teresa
URL:https://sementesdoverbo.org/eventos/tocantins-palmas-nos-bracos-da-mae/
LOCATION:Palmas – TO\, Loteamento Área Verde Palmas\, Palmas\, tocantins
CATEGORIES:Retiro
END:VEVENT
BEGIN:VEVENT
DTSTART;TZID=America/Sao_Paulo:20260515T183000
DTEND;TZID=America/Sao_Paulo:20260521T140000
DTSTAMP:20260426T001254
CREATED:20260303T165921Z
LAST-MODIFIED:20260305T142341Z
UID:21272-1778869800-1779372000@sementesdoverbo.org
SUMMARY:Tocantins – Palmas | Retiro de Pentecostes 
DESCRIPTION:Retiro de Pentecostes  \n“Escutar o eco do Espírito Santo para o discernimento dos espíritos.” \nPregado por Pe. Filipe\, Wandson e Nelito
URL:https://sementesdoverbo.org/eventos/tocantins-palmas-retiro-de-pentecostes/
LOCATION:Palmas – TO\, Loteamento Área Verde Palmas\, Palmas\, tocantins
CATEGORIES:Retiro
END:VEVENT
BEGIN:VEVENT
DTSTART;VALUE=DATE:20260516
DTEND;VALUE=DATE:20260517
DTSTAMP:20260426T001254
CREATED:20260303T170148Z
LAST-MODIFIED:20260303T170148Z
UID:21274-1778889600-1778975999@sementesdoverbo.org
SUMMARY:Tocantins – Palmas | Deserto para Mulheres
DESCRIPTION:Deserto para Mulheres \n“Virtudes marianas: humildade\, fé\, coragem e paciência.” \nPregador por Ir. Maria Ana e Egracielle
URL:https://sementesdoverbo.org/eventos/tocantins-palmas-deserto-para-mulheres/
LOCATION:Palmas – TO\, Loteamento Área Verde Palmas\, Palmas\, tocantins
CATEGORIES:Retiro
END:VEVENT
BEGIN:VEVENT
DTSTART;TZID=America/Sao_Paulo:20260529T183000
DTEND;TZID=America/Sao_Paulo:20260531T140000
DTSTAMP:20260426T001254
CREATED:20260303T170316Z
LAST-MODIFIED:20260303T171808Z
UID:21276-1780079400-1780236000@sementesdoverbo.org
SUMMARY:Tocantins – Palmas | Recria-me I: Com o livro de Gênesis
DESCRIPTION:Recria-me I: Com o livro de Gênesis \n“No princípio\, Deus” (Gn 1\,1) \nPregado pela Comunidade SdV
URL:https://sementesdoverbo.org/eventos/tocantins-palmas-recria-me-i-com-o-livro-de-genesis/
LOCATION:Palmas – TO\, Loteamento Área Verde Palmas\, Palmas\, tocantins
CATEGORIES:Retiro de cura
END:VEVENT
END:VCALENDAR