BEGIN:VCALENDAR
VERSION:2.0
PRODID:-//Comunidade Sementes do Verbo - ECPv6.15.20//NONSGML v1.0//EN
CALSCALE:GREGORIAN
METHOD:PUBLISH
X-ORIGINAL-URL:https://sementesdoverbo.org
X-WR-CALDESC:Eventos para Comunidade Sementes do Verbo
REFRESH-INTERVAL;VALUE=DURATION:PT1H
X-Robots-Tag:noindex
X-PUBLISHED-TTL:PT1H
BEGIN:VTIMEZONE
TZID:America/Sao_Paulo
BEGIN:STANDARD
TZOFFSETFROM:-0300
TZOFFSETTO:-0300
TZNAME:-03
DTSTART:20250101T000000
END:STANDARD
END:VTIMEZONE
BEGIN:VEVENT
DTSTART;TZID=America/Sao_Paulo:20260402T080000
DTEND;TZID=America/Sao_Paulo:20260405T140000
DTSTAMP:20260423T232433
CREATED:20260303T152907Z
LAST-MODIFIED:20260303T152907Z
UID:21218-1775116800-1775397600@sementesdoverbo.org
SUMMARY:África – Maputo | Retiro de Páscoa
DESCRIPTION:Retiro de Páscoa \n“Ele foi ferido por causa dos nossos pecados… e pelas suas chagas fomos curados.” \nPregado pela comunidade Sementes do Verbo
URL:https://sementesdoverbo.org/eventos/africa-maputo-retiro-de-pascoa/
LOCATION:Maputo – Moçambique\, Matutuine - Bela Vista\, Maputo - Moçambique\, South Africa
CATEGORIES:Retiro
END:VEVENT
END:VCALENDAR