BEGIN:VCALENDAR
VERSION:2.0
PRODID:-//Comunidade Sementes do Verbo - ECPv6.15.20//NONSGML v1.0//EN
CALSCALE:GREGORIAN
METHOD:PUBLISH
X-WR-CALNAME:Comunidade Sementes do Verbo
X-ORIGINAL-URL:https://sementesdoverbo.org
X-WR-CALDESC:Eventos para Comunidade Sementes do Verbo
REFRESH-INTERVAL;VALUE=DURATION:PT1H
X-Robots-Tag:noindex
X-PUBLISHED-TTL:PT1H
BEGIN:VTIMEZONE
TZID:America/Sao_Paulo
BEGIN:STANDARD
TZOFFSETFROM:-0300
TZOFFSETTO:-0300
TZNAME:-03
DTSTART:20240101T000000
END:STANDARD
END:VTIMEZONE
BEGIN:VEVENT
DTSTART;TZID=America/Sao_Paulo:20251223T080000
DTEND;TZID=America/Sao_Paulo:20251225T140000
DTSTAMP:20260425T223020
CREATED:20250307T163424Z
LAST-MODIFIED:20250307T163424Z
UID:10131-1766476800-1766671200@sementesdoverbo.org
SUMMARY:BRASIL | PA - Retiro de Natal
DESCRIPTION:Retiro de Natal\n“Pela esperança é que fomos salvos” (Rm 8\, 24) \nPregado pela Comunidade Sementes do Verbo
URL:https://sementesdoverbo.org/eventos/brasil-pa-retiro-de-natal-2/
LOCATION:Pará
CATEGORIES:Retiro
END:VEVENT
END:VCALENDAR