BEGIN:VCALENDAR
VERSION:2.0
PRODID:-//Comunidade Sementes do Verbo - ECPv6.15.20//NONSGML v1.0//EN
CALSCALE:GREGORIAN
METHOD:PUBLISH
X-WR-CALNAME:Comunidade Sementes do Verbo
X-ORIGINAL-URL:https://sementesdoverbo.org
X-WR-CALDESC:Eventos para Comunidade Sementes do Verbo
REFRESH-INTERVAL;VALUE=DURATION:PT1H
X-Robots-Tag:noindex
X-PUBLISHED-TTL:PT1H
BEGIN:VTIMEZONE
TZID:America/Sao_Paulo
BEGIN:STANDARD
TZOFFSETFROM:-0300
TZOFFSETTO:-0300
TZNAME:-03
DTSTART:20240101T000000
END:STANDARD
END:VTIMEZONE
BEGIN:VEVENT
DTSTART;VALUE=DATE:20251011
DTEND;VALUE=DATE:20251012
DTSTAMP:20260426T002010
CREATED:20250307T162940Z
LAST-MODIFIED:20250307T163925Z
UID:10127-1760140800-1760227199@sementesdoverbo.org
SUMMARY:BRASIL | PA - Romaria Fluvial do Círio
DESCRIPTION:Romaria Fluvial do Círio \nCírio de Nossa Senhora de Nazaré\, Belém-PA \nCom a Comunidade Sementes do Verbo
URL:https://sementesdoverbo.org/eventos/brasil-pa-romaria-fluvial-do-cirio/
LOCATION:Convento Nossa Senhora do Carmo\, TV. Dom Bosco\, 72 - Cidade Velha\, Belém - PA\, Belém\, Pará\, 66020 - 210\, Brasil
CATEGORIES:Eventos
END:VEVENT
END:VCALENDAR