BEGIN:VCALENDAR
VERSION:2.0
PRODID:-//Comunidade Sementes do Verbo - ECPv6.15.20//NONSGML v1.0//EN
CALSCALE:GREGORIAN
METHOD:PUBLISH
X-WR-CALNAME:Comunidade Sementes do Verbo
X-ORIGINAL-URL:https://sementesdoverbo.org
X-WR-CALDESC:Eventos para Comunidade Sementes do Verbo
REFRESH-INTERVAL;VALUE=DURATION:PT1H
X-Robots-Tag:noindex
X-PUBLISHED-TTL:PT1H
BEGIN:VTIMEZONE
TZID:America/Sao_Paulo
BEGIN:STANDARD
TZOFFSETFROM:-0300
TZOFFSETTO:-0300
TZNAME:-03
DTSTART:20250101T000000
END:STANDARD
END:VTIMEZONE
BEGIN:VEVENT
DTSTART;TZID=America/Sao_Paulo:20260402T090000
DTEND;TZID=America/Sao_Paulo:20260404T150000
DTSTAMP:20260423T220530
CREATED:20260110T175511Z
LAST-MODIFIED:20260219T155349Z
UID:20518-1775120400-1775314800@sementesdoverbo.org
SUMMARY:Canadá - Montréal | Retraite de Pâques
DESCRIPTION:Retraite de Pâques \n« Guéris dans ses blessures » \nPrêchée par Communauté Semences du Verbe \n 
URL:https://sementesdoverbo.org/eventos/canada-retraite-de-paques/
CATEGORIES:Retiro
END:VEVENT
BEGIN:VEVENT
DTSTART;VALUE=DATE:20260403
DTEND;VALUE=DATE:20260404
DTSTAMP:20260423T220530
CREATED:20260326T150306Z
LAST-MODIFIED:20260326T150519Z
UID:21505-1775174400-1775260799@sementesdoverbo.org
SUMMARY:Canadá – Calgary |  3 VENERATION OF JESUS’ BODY
DESCRIPTION:“Good Friday” \nPreached by Seeds of the Word Community
URL:https://sementesdoverbo.org/eventos/canada-calgary-3-veneration-of-jesus-body/
LOCATION:CALGARY-CANADA\, 115206 Township Road 262\, Calgary\, AB\, T3P 1A7 Canada\, Calgary\, Canada
CATEGORIES:Retiro
END:VEVENT
END:VCALENDAR