BEGIN:VCALENDAR
VERSION:2.0
PRODID:-//Comunidade Sementes do Verbo - ECPv6.15.20//NONSGML v1.0//EN
CALSCALE:GREGORIAN
METHOD:PUBLISH
X-ORIGINAL-URL:https://sementesdoverbo.org
X-WR-CALDESC:Eventos para Comunidade Sementes do Verbo
REFRESH-INTERVAL;VALUE=DURATION:PT1H
X-Robots-Tag:noindex
X-PUBLISHED-TTL:PT1H
BEGIN:VTIMEZONE
TZID:America/Sao_Paulo
BEGIN:STANDARD
TZOFFSETFROM:-0300
TZOFFSETTO:-0300
TZNAME:-03
DTSTART:20250101T000000
END:STANDARD
END:VTIMEZONE
BEGIN:VEVENT
DTSTART;VALUE=DATE:20260524
DTEND;VALUE=DATE:20260525
DTSTAMP:20260425T100813
CREATED:20260110T180236Z
LAST-MODIFIED:20260110T180236Z
UID:20520-1779580800-1779667199@sementesdoverbo.org
SUMMARY:Canadá - Montréal | RETRAITE DE PENTECÔTE
DESCRIPTION:RETRAITE DE PENTECÔTE \n« Enviai o vosso Espírito\, Senhor\, e renovareis a face da terra.” (cf. Sl 103\,30) » \nPrêchée par Communauté Semences du Verbe
URL:https://sementesdoverbo.org/eventos/canada-montreal-retraite-de-pentecote/
LOCATION:2065 Rue Sherbrooke West\, Montréal – Québec\, H3H 1G6\, 2065 Rue Sherbrooke West\, Montréal - Québec\, H3H 1G6\, Montréal\, Québec\,\, Canada
CATEGORIES:Retiro
END:VEVENT
END:VCALENDAR