BEGIN:VCALENDAR
VERSION:2.0
PRODID:-//Comunidade Sementes do Verbo - ECPv6.15.20//NONSGML v1.0//EN
CALSCALE:GREGORIAN
METHOD:PUBLISH
X-WR-CALNAME:Comunidade Sementes do Verbo
X-ORIGINAL-URL:https://sementesdoverbo.org
X-WR-CALDESC:Eventos para Comunidade Sementes do Verbo
REFRESH-INTERVAL;VALUE=DURATION:PT1H
X-Robots-Tag:noindex
X-PUBLISHED-TTL:PT1H
BEGIN:VTIMEZONE
TZID:America/Sao_Paulo
BEGIN:STANDARD
TZOFFSETFROM:-0300
TZOFFSETTO:-0300
TZNAME:-03
DTSTART:20250101T000000
END:STANDARD
END:VTIMEZONE
BEGIN:VEVENT
DTSTART;VALUE=DATE:20260524
DTEND;VALUE=DATE:20260525
DTSTAMP:20260425T152610
CREATED:20260110T170243Z
LAST-MODIFIED:20260110T170314Z
UID:20486-1779580800-1779667199@sementesdoverbo.org
SUMMARY:África - Dombe | Retiro de Pentecoste
DESCRIPTION:Retiro de Pentecoste \n“O Espirito Santo transforma nossa dor em lugar de encontro com o Amor” \nPregado por Ir. Noemi\, Ir. Thalita e Ir. Jacinta
URL:https://sementesdoverbo.org/eventos/retiro-de-pentecoste/
LOCATION:Santa Bakita\, Posto Administrativo de Dombe\, Distrito de Sussundenga\, Dombe\, Moçambique\, Brasil
CATEGORIES:Retiro
END:VEVENT
END:VCALENDAR