BEGIN:VCALENDAR
VERSION:2.0
PRODID:-//Comunidade Sementes do Verbo - ECPv6.15.20//NONSGML v1.0//EN
CALSCALE:GREGORIAN
METHOD:PUBLISH
X-WR-CALNAME:Comunidade Sementes do Verbo
X-ORIGINAL-URL:https://sementesdoverbo.org
X-WR-CALDESC:Eventos para Comunidade Sementes do Verbo
REFRESH-INTERVAL;VALUE=DURATION:PT1H
X-Robots-Tag:noindex
X-PUBLISHED-TTL:PT1H
BEGIN:VTIMEZONE
TZID:America/Sao_Paulo
BEGIN:STANDARD
TZOFFSETFROM:-0300
TZOFFSETTO:-0300
TZNAME:-03
DTSTART:20240101T000000
END:STANDARD
END:VTIMEZONE
BEGIN:VEVENT
DTSTART;VALUE=DATE:20250513
DTEND;VALUE=DATE:20250514
DTSTAMP:20260424T090053
CREATED:20250227T211115Z
LAST-MODIFIED:20250411T144529Z
UID:9851-1747094400-1747180799@sementesdoverbo.org
SUMMARY:Início do Ano Sabático
DESCRIPTION:Santa Missa
URL:https://sementesdoverbo.org/eventos/inicio-do-ano-sabatico/
LOCATION:Monte Tabor\, Tv do Cruzeiro\, 404\, Cruzeiro. Belém - PA\, Belém\, Pará\, 66810-010\, Brasil
CATEGORIES:Ano Sabático
END:VEVENT
BEGIN:VEVENT
DTSTART;TZID=America/Sao_Paulo:20250509T080000
DTEND;TZID=America/Sao_Paulo:20250511T140000
DTSTAMP:20260424T090053
CREATED:20250307T133711Z
LAST-MODIFIED:20250307T133711Z
UID:10112-1746777600-1746972000@sementesdoverbo.org
SUMMARY:BRASIL | PA - Recria- me II " Identidade\, Afetividade e Sexualidade
DESCRIPTION:Recria- me II ” Identidade\, Afetividade e Sexualidade\n“Passar do desespero e vazio para a esperança e a confiança!” \nPregado por Pe. João Gabriel e Irmã Maria Salomé
URL:https://sementesdoverbo.org/eventos/brasil-pa-recria-me-ii-identidade-afetividade-e-sexualidade-2/
LOCATION:Convento Nossa Senhora do Carmo\, TV. Dom Bosco\, 72 - Cidade Velha\, Belém - PA\, Belém\, Pará\, 66020 - 210\, Brasil
CATEGORIES:Retiro,Retiro de cura
END:VEVENT
BEGIN:VEVENT
DTSTART;TZID=America/Sao_Paulo:20250509T080000
DTEND;TZID=America/Sao_Paulo:20250511T140000
DTSTAMP:20260424T090053
CREATED:20250227T210536Z
LAST-MODIFIED:20250227T210708Z
UID:9848-1746777600-1746972000@sementesdoverbo.org
SUMMARY:Retiro de Discernimento " Senhor\, o que queres que eu faça?"
DESCRIPTION:Retiro de Discernimento ” Senhor\, o que queres que eu faça?”\n“Esperar em si mesmo ou esperar em Deus?” \nPregado pelos missionários SdV:\nPe João Batista\, Ir Agostinho\, Ir Samuel e Jucinéia
URL:https://sementesdoverbo.org/eventos/retiro-de-discernimento-senhor-o-que-queres-que-eu-faca/
LOCATION:Monte Tabor\, Tv do Cruzeiro\, 404\, Cruzeiro. Belém - PA\, Belém\, Pará\, 66810-010\, Brasil
CATEGORIES:Retiro
END:VEVENT
BEGIN:VEVENT
DTSTART;TZID=America/Sao_Paulo:20250501T183000
DTEND;TZID=America/Sao_Paulo:20250504T140000
DTSTAMP:20260424T090053
CREATED:20250411T141723Z
LAST-MODIFIED:20250411T144546Z
UID:10483-1746124200-1746367200@sementesdoverbo.org
SUMMARY:Brasil | RJ - Retiro do Carisma
DESCRIPTION:Jubileu da Esperança\nPregado pela Comunidade Sementes do Verbo \nPara todos que desejam viver uma nova efusão dos dons e carismas do Espírito Santo e para os membros da Comunidade de Aliança Sementes do Verbo
URL:https://sementesdoverbo.org/eventos/brasil-rj-retiro-do-carisma/
LOCATION:rio de janeiro\, Rua Luis Zancheta\, n 48\, Rio de Janeiro\, RJ\, 20970120\, Brasil
CATEGORIES:Retiro
END:VEVENT
BEGIN:VEVENT
DTSTART;TZID=America/Sao_Paulo:20250501T180000
DTEND;TZID=America/Sao_Paulo:20250503T160000
DTSTAMP:20260424T090053
CREATED:20250413T151029Z
LAST-MODIFIED:20250413T151029Z
UID:10510-1746122400-1746288000@sementesdoverbo.org
SUMMARY:Brasil - AM | Retiro do Carisma Sementes do Verbo
DESCRIPTION:Retiro do Carisma Sementes do Verbo \n“Peregrinos da Esperança” \nPregado pela Comunidade Sementes do Verbo
URL:https://sementesdoverbo.org/eventos/brasil-am-retiro-do-carisma-sementes-do-verbo/
LOCATION:Maria de Loreto\, Rodovia AM 010\, Km 26 Manaus - AM\, Manaus\, Amazônia\, Brasil
CATEGORIES:Retiro
END:VEVENT
BEGIN:VEVENT
DTSTART;TZID=America/Sao_Paulo:20250501T080000
DTEND;TZID=America/Sao_Paulo:20250504T140000
DTSTAMP:20260424T090053
CREATED:20250227T205840Z
LAST-MODIFIED:20250227T223516Z
UID:9846-1746086400-1746367200@sementesdoverbo.org
SUMMARY:Brasil-PA | Retiro do Carisma Sementes do Verbo
DESCRIPTION:Retiro do Carisma Sementes do Verbo\n“Peregrinos da Esperança” \nPregado pelos missionários SdV
URL:https://sementesdoverbo.org/eventos/brasil-pa-retiro-do-carisma-sementes-do-verbo/
LOCATION:Monte Tabor\, Tv do Cruzeiro\, 404\, Cruzeiro. Belém - PA\, Belém\, Pará\, 66810-010\, Brasil
CATEGORIES:Retiro
END:VEVENT
BEGIN:VEVENT
DTSTART;TZID=America/Sao_Paulo:20250501T080000
DTEND;TZID=America/Sao_Paulo:20250504T140000
DTSTAMP:20260424T090053
CREATED:20250227T155433Z
LAST-MODIFIED:20250227T155841Z
UID:9796-1746086400-1746367200@sementesdoverbo.org
SUMMARY:Brasil-TO | Retiro do Carisma
DESCRIPTION:Retiro do Carisma \n“A finalidade de cada homem é tornarse homens e mulheres de esperança” (Papa Francisco) \nPregado por Nelito e Flávia \n 
URL:https://sementesdoverbo.org/eventos/retiro-do-carisma-2/
LOCATION:Palmas – TO\, Loteamento Área Verde Palmas\, Palmas\, tocantins
CATEGORIES:Retiro
END:VEVENT
BEGIN:VEVENT
DTSTART;TZID=America/Sao_Paulo:20250430T080000
DTEND;TZID=America/Sao_Paulo:20250501T170000
DTSTAMP:20260424T090053
CREATED:20250307T133901Z
LAST-MODIFIED:20250307T164547Z
UID:10114-1746000000-1746118800@sementesdoverbo.org
SUMMARY:BRASIL | PA - Festival de Jovens
DESCRIPTION:Festival de Jovens\n“A esperança é a virtude de quem tem o coração jovem” Papa Francisco \nPregado pela Comunidade Sementes do Verbo
URL:https://sementesdoverbo.org/eventos/brasil-pa-festival-de-jovens-2/
LOCATION:Convento Nossa Senhora do Carmo\, TV. Dom Bosco\, 72 - Cidade Velha\, Belém - PA\, Belém\, Pará\, 66020 - 210\, Brasil
CATEGORIES:Retiro,Retiro de cura
END:VEVENT
BEGIN:VEVENT
DTSTART;TZID=America/Sao_Paulo:20250417T170000
DTEND;TZID=America/Sao_Paulo:20250420T140000
DTSTAMP:20260424T090053
CREATED:20250413T150737Z
LAST-MODIFIED:20250413T150737Z
UID:10508-1744909200-1745157600@sementesdoverbo.org
SUMMARY:Brasil - AM | Retiro de Páscoa
DESCRIPTION:Retiro de Páscoa \n“E pela esperança que somos salvos” Rm 8\,24 \nPregado pela Comunidade Sementes do Verbo
URL:https://sementesdoverbo.org/eventos/brasil-am-retiro-de-pascoa/
LOCATION:Maria de Loreto\, Rodovia AM 010\, Km 26 Manaus - AM\, Manaus\, Amazônia\, Brasil
CATEGORIES:Retiro
END:VEVENT
BEGIN:VEVENT
DTSTART;TZID=America/Sao_Paulo:20250417T080000
DTEND;TZID=America/Sao_Paulo:20250420T140000
DTSTAMP:20260424T090053
CREATED:20250307T133154Z
LAST-MODIFIED:20250307T133230Z
UID:10110-1744876800-1745157600@sementesdoverbo.org
SUMMARY:BRASIL | PA - Retiro de Páscoa
DESCRIPTION:Retiro de Páscoa\n“A ressurreição do Senhor é a nossa esperança” Sto. Agostinho \nPregado por Pe. Filipe\, Pe. João Gabriel e Seminaristas SdV
URL:https://sementesdoverbo.org/eventos/brasil-pa-retiro-de-pascoa/
LOCATION:Convento Nossa Senhora do Carmo\, TV. Dom Bosco\, 72 - Cidade Velha\, Belém - PA\, Belém\, Pará\, 66020 - 210\, Brasil
CATEGORIES:Retiro
END:VEVENT
BEGIN:VEVENT
DTSTART;TZID=America/Sao_Paulo:20250417T080000
DTEND;TZID=America/Sao_Paulo:20250420T140000
DTSTAMP:20260424T090053
CREATED:20250227T154801Z
LAST-MODIFIED:20250227T155835Z
UID:9792-1744876800-1745157600@sementesdoverbo.org
SUMMARY:Brasil-TO | Retiro de Páscoa
DESCRIPTION:Retiro de Páscoa\n“Jesus Cristo ressuscitado é a fonte da nossa esperança” \nPregado pela Comunidade Sementes do Verbo
URL:https://sementesdoverbo.org/eventos/brasil-to-retiro-de-pascoa/
LOCATION:Palmas – TO\, Loteamento Área Verde Palmas\, Palmas\, tocantins
CATEGORIES:Retiro
END:VEVENT
BEGIN:VEVENT
DTSTART;TZID=America/Sao_Paulo:20250415T080000
DTEND;TZID=America/Sao_Paulo:20250420T140000
DTSTAMP:20260424T090053
CREATED:20250227T205036Z
LAST-MODIFIED:20250227T223213Z
UID:9844-1744704000-1745157600@sementesdoverbo.org
SUMMARY:Brasil-PA | Recria-me I Retiro de Páscoa
DESCRIPTION:Recria-me I Retiro de Páscoa \n“A ressurreição do Senhor é a nossa esperança” Sto. Agostinho \nPregado por missionários SdV:\nPe Bernardo\, Ir Francisco\, Ir Anastasia e Verônica
URL:https://sementesdoverbo.org/eventos/brasil-pa-recria-me-i-retiro-de-pascoa/
LOCATION:Monte Tabor\, Tv do Cruzeiro\, 404\, Cruzeiro. Belém - PA\, Belém\, Pará\, 66810-010\, Brasil
CATEGORIES:Retiro
END:VEVENT
BEGIN:VEVENT
DTSTART;TZID=America/Sao_Paulo:20250411T080000
DTEND;TZID=America/Sao_Paulo:20250411T170000
DTSTAMP:20260424T090053
CREATED:20250411T142512Z
LAST-MODIFIED:20250411T144600Z
UID:10486-1744358400-1744390800@sementesdoverbo.org
SUMMARY:Brasil- MA | Retiro de Dsicernimento
DESCRIPTION:Retiro de Dsicernimento\n“A esperança do céu com Deus\, nos dá asas para viver o real” \nPregado por Ir Priscila e Pe. Joao Batista
URL:https://sementesdoverbo.org/eventos/brasil-ma-retiro-de-dsicernimento/
LOCATION:Maria de Loreto\, Rodovia AM 010\, Km 26 Manaus - AM\, Manaus\, Amazônia\, Brasil
CATEGORIES:Retiro de Discernimento
END:VEVENT
BEGIN:VEVENT
DTSTART;TZID=America/Sao_Paulo:20250404T183000
DTEND;TZID=America/Sao_Paulo:20250406T140000
DTSTAMP:20260424T090053
CREATED:20250413T150133Z
LAST-MODIFIED:20250413T150133Z
UID:10505-1743791400-1743948000@sementesdoverbo.org
SUMMARY:Brasil - AM | Retiro para mulheres 
DESCRIPTION:Retiro para mulheres  \n“A esperança e a ancora da alma ” Hb 6\,19 \ncom a espiritualidade das três Teresas \nPregado por Ir Priscila\, Ir Esther e Kelly
URL:https://sementesdoverbo.org/eventos/brasil-am-retiro-para-mulheres/
LOCATION:Maria de Loreto\, Rodovia AM 010\, Km 26 Manaus - AM\, Manaus\, Amazônia\, Brasil
CATEGORIES:Retiro
END:VEVENT
BEGIN:VEVENT
DTSTART;TZID=America/Sao_Paulo:20250329T080000
DTEND;TZID=America/Sao_Paulo:20250330T140000
DTSTAMP:20260424T090053
CREATED:20250227T154018Z
LAST-MODIFIED:20250227T155803Z
UID:9786-1743235200-1743343200@sementesdoverbo.org
SUMMARY:Brasil-TO | Retiro para Casais
DESCRIPTION:“Onde falta a esperança\, o amor enfraquece’ (São João Paulo II) \nPregado por Wandson e Egracielle
URL:https://sementesdoverbo.org/eventos/retiro-para-casais/
LOCATION:Palmas – TO\, Loteamento Área Verde Palmas\, Palmas\, tocantins
CATEGORIES:Retiro de cura,Retiro para casais
END:VEVENT
BEGIN:VEVENT
DTSTART;VALUE=DATE:20250323
DTEND;VALUE=DATE:20250324
DTSTAMP:20260424T090053
CREATED:20250411T145555Z
LAST-MODIFIED:20250411T145555Z
UID:10498-1742688000-1742774399@sementesdoverbo.org
SUMMARY:Brasil - AM | Deserto para Homens
DESCRIPTION:Deserto para Homens\n“Homens\, firmes na esperança” cf. Hb 10\,23 \nPregado pela Comunidade Sementes do Verbo
URL:https://sementesdoverbo.org/eventos/brasil-am-deserto-para-homens/
LOCATION:Maria de Loreto\, Rodovia AM 010\, Km 26 Manaus - AM\, Manaus\, Amazônia\, Brasil
CATEGORIES:Retiro
END:VEVENT
BEGIN:VEVENT
DTSTART;VALUE=DATE:20250319
DTEND;VALUE=DATE:20250320
DTSTAMP:20260424T090053
CREATED:20250227T153743Z
LAST-MODIFIED:20250227T155752Z
UID:9784-1742342400-1742428799@sementesdoverbo.org
SUMMARY:Brasil-TO | Santa Missa
DESCRIPTION:Início\, do Ano Sabático
URL:https://sementesdoverbo.org/eventos/santa-missa/
LOCATION:Québec\,
CATEGORIES:Ano Sabático
END:VEVENT
BEGIN:VEVENT
DTSTART;VALUE=DATE:20250312
DTEND;VALUE=DATE:20250313
DTSTAMP:20260424T090053
CREATED:20250227T154454Z
LAST-MODIFIED:20250227T155745Z
UID:9788-1741737600-1741823999@sementesdoverbo.org
SUMMARY:Brasil-TO | Deserto para Homens
DESCRIPTION:“A oração é a porta da esperança”\nPregado por Wandson e Leandro \n 
URL:https://sementesdoverbo.org/eventos/deserto-para-homens-3/
LOCATION:Palmas – TO\, Loteamento Área Verde Palmas\, Palmas\, tocantins
CATEGORIES:Retiro
END:VEVENT
BEGIN:VEVENT
DTSTART;VALUE=DATE:20250308
DTEND;VALUE=DATE:20250309
DTSTAMP:20260424T090053
CREATED:20250227T152935Z
LAST-MODIFIED:20250227T155737Z
UID:9781-1741392000-1741478399@sementesdoverbo.org
SUMMARY:Brasil-TO | Deserto para mulheres
DESCRIPTION:Deserto para mulheres\n“A Virgem Maria\, mãe da Esperança” \nPregado por Ir. Maria Helena e Egracielle
URL:https://sementesdoverbo.org/eventos/deserto-para-mulheres-palmas/
LOCATION:Palmas – TO\, Loteamento Área Verde Palmas\, Palmas\, tocantins
CATEGORIES:Retiro
END:VEVENT
BEGIN:VEVENT
DTSTART;TZID=America/Sao_Paulo:20250307T080000
DTEND;TZID=America/Sao_Paulo:20250309T170000
DTSTAMP:20260424T090053
CREATED:20250307T132737Z
LAST-MODIFIED:20250307T132807Z
UID:10108-1741334400-1741539600@sementesdoverbo.org
SUMMARY:Brasil | PA - Recria-me "No Princípio Deus"
DESCRIPTION:Recria-me “No Princípio Deus”\n“Você é conhecido\, amado e esperado” \nPregado por Seminaristas SdV
URL:https://sementesdoverbo.org/eventos/brasil-pa-recria-me-no-principio-deus/
LOCATION:Convento Nossa Senhora do Carmo\, TV. Dom Bosco\, 72 - Cidade Velha\, Belém - PA\, Belém\, Pará\, 66020 - 210\, Brasil
CATEGORIES:Retiro
END:VEVENT
BEGIN:VEVENT
DTSTART;TZID=America/Sao_Paulo:20250307T080000
DTEND;TZID=America/Sao_Paulo:20250307T170000
DTSTAMP:20260424T090053
CREATED:20250307T162820Z
LAST-MODIFIED:20250307T162820Z
UID:10125-1741334400-1741366800@sementesdoverbo.org
SUMMARY:Brasil | PA - Retiro para Homens
DESCRIPTION:Retiro para Homens\n“Apóstolos da Esperança” \nPregado por Pe. João Gabriel e Pe. Filipe
URL:https://sementesdoverbo.org/eventos/brasil-pa-retiro-para-homens/
LOCATION:Convento Nossa Senhora do Carmo\, TV. Dom Bosco\, 72 - Cidade Velha\, Belém - PA\, Belém\, Pará\, 66020 - 210\, Brasil
CATEGORIES:Retiro
END:VEVENT
BEGIN:VEVENT
DTSTART;TZID=America/Sao_Paulo:20250301T080000
DTEND;TZID=America/Sao_Paulo:20250304T170000
DTSTAMP:20260424T090053
CREATED:20250227T151355Z
LAST-MODIFIED:20250227T155721Z
UID:9766-1740816000-1741107600@sementesdoverbo.org
SUMMARY:Brasil- RJ | Recria-me com São João
DESCRIPTION:“Não vos deixareis orfãos” (Cf Jo 14\, 18) \nO Retiro de cura\, conversão e recriação -especial Carnaval- é uma pedagogia bíblica simples e profunda para um caminho de maior UNIÃO A DEUS E AMADURECIMENTO DA NOSSA VERDADEIRA IDENTIDADE COMO FILHOS. Durante o final de semana de carnaval\, poderemos aprofundar as graças de São João evangelista\, o discípulo amado que reclinou-se sobre o Coração de Jesus para ouvir a Sua voz e fazer a vontade do Pai\, até aos pés da Cruz. Participe conosco! \nData 01 a 04 de março de 2025.\nHorário: Sexta ás 18h a Domingo às 14h.\nLocal: Casa São Francisco de Sales. Rua Luís Zanchetta Nº 48\, Riachuelo. \nFaça já sua inscrição: https://forms.gle/Wd18CLknv2oQBdiFA\nMais informações:\n(21) 96552-0072
URL:https://sementesdoverbo.org/eventos/recria-me-com-sao-joao/
LOCATION:rio de janeiro\, Rua Luis Zancheta\, n 48\, Rio de Janeiro\, RJ\, 20970120\, Brasil
CATEGORIES:Retiro de cura
END:VEVENT
BEGIN:VEVENT
DTSTART;TZID=America/Sao_Paulo:20250228T183000
DTEND;TZID=America/Sao_Paulo:20250304T160000
DTSTAMP:20260424T090053
CREATED:20250411T145317Z
LAST-MODIFIED:20250411T145317Z
UID:10496-1740767400-1741104000@sementesdoverbo.org
SUMMARY:Brasil - AM | Festival de Jovens
DESCRIPTION:Festival de Jovens\nPeregrinos da Esperança \nPregado pela Comunidade Sementes do Verbo \n 
URL:https://sementesdoverbo.org/eventos/brasil-am-festival-de-jovens/
LOCATION:Québec\,
CATEGORIES:Festival
END:VEVENT
BEGIN:VEVENT
DTSTART;TZID=America/Sao_Paulo:20250228T080000
DTEND;TZID=America/Sao_Paulo:20250304T170000
DTSTAMP:20260424T090053
CREATED:20250227T151907Z
LAST-MODIFIED:20250227T155710Z
UID:9772-1740729600-1741107600@sementesdoverbo.org
SUMMARY:Brasil-TO | Festival de Jovens
DESCRIPTION:Festival de Jovens\n“Peregrinos da Esperança” \nPregado pela Comunidade Sementes do Verbo
URL:https://sementesdoverbo.org/eventos/festival-de-jovens-palmas/
LOCATION:Palmas – TO\, Loteamento Área Verde Palmas\, Palmas\, tocantins
CATEGORIES:Festival
END:VEVENT
BEGIN:VEVENT
DTSTART;TZID=America/Sao_Paulo:20250227T080000
DTEND;TZID=America/Sao_Paulo:20250227T170000
DTSTAMP:20260424T090053
CREATED:20250227T193153Z
LAST-MODIFIED:20250227T193438Z
UID:9826-1740643200-1740675600@sementesdoverbo.org
SUMMARY:Brasil-TO | Retiro para Casais 
DESCRIPTION:Retiro para Casais \n“Viver cada momento como um encontro de amor” \nPregado por Nelito e Flávia
URL:https://sementesdoverbo.org/eventos/brasil-to-retiro-para-casais/
LOCATION:Palmas – TO\, Loteamento Área Verde Palmas\, Palmas\, tocantins
CATEGORIES:Retiro,Retiro para casais
END:VEVENT
BEGIN:VEVENT
DTSTART;VALUE=DATE:20250216
DTEND;VALUE=DATE:20250217
DTSTAMP:20260424T090053
CREATED:20250307T131730Z
LAST-MODIFIED:20250307T131756Z
UID:10105-1739664000-1739750399@sementesdoverbo.org
SUMMARY:Brasil | PA - Santa Missa Início do Ano Sabático
DESCRIPTION:Santa Missa Início do Ano Sabático
URL:https://sementesdoverbo.org/eventos/brasil-pa-santa-missa-inicio-do-ano-sabatico/
LOCATION:Convento Nossa Senhora do Carmo\, TV. Dom Bosco\, 72 - Cidade Velha\, Belém - PA\, Belém\, Pará\, 66020 - 210\, Brasil
CATEGORIES:Ano Sabático
END:VEVENT
BEGIN:VEVENT
DTSTART;VALUE=DATE:20250216
DTEND;VALUE=DATE:20250217
DTSTAMP:20260424T090053
CREATED:20250411T145020Z
LAST-MODIFIED:20250411T145020Z
UID:10493-1739664000-1739750399@sementesdoverbo.org
SUMMARY:Brasil - AM | Dominus Dai - Almço em família
DESCRIPTION:Dominus Dai – Almço em família\n“Para saborear e festejar”
URL:https://sementesdoverbo.org/eventos/brasil-am-dominus-dai-almco-em-familia/
LOCATION:Maria de Loreto\, Rodovia AM 010\, Km 26 Manaus - AM\, Manaus\, Amazônia\, Brasil
CATEGORIES:Eventos
END:VEVENT
BEGIN:VEVENT
DTSTART;TZID=America/Sao_Paulo:20250131T183000
DTEND;TZID=America/Sao_Paulo:20250202T140000
DTSTAMP:20260424T090053
CREATED:20250411T144403Z
LAST-MODIFIED:20250411T144403Z
UID:10491-1738348200-1738504800@sementesdoverbo.org
SUMMARY:Brasil - AM | Recria-me II - Identidade\, Afetividade e Sexualidade
DESCRIPTION:Recria-me II – Identidade\, Afetividade e Sexualidade\n“Transformar a dor em amor” \nPregado por Ir Priscila e Ir Esther
URL:https://sementesdoverbo.org/eventos/brasil-am-recria-me-ii-identidade-afetividade-e-sexualidade/
LOCATION:Maria de Loreto\, Rodovia AM 010\, Km 26 Manaus - AM\, Manaus\, Amazônia\, Brasil
CATEGORIES:Retiro,Retiro de cura
END:VEVENT
BEGIN:VEVENT
DTSTART;TZID=America/Sao_Paulo:20250131T080000
DTEND;TZID=America/Sao_Paulo:20250202T170000
DTSTAMP:20260424T090053
CREATED:20250227T145822Z
LAST-MODIFIED:20250227T155620Z
UID:9759-1738310400-1738515600@sementesdoverbo.org
SUMMARY:Brasil-TO | Retiro de Discernimento: "Senhor que queres que eu faça?"
DESCRIPTION:CASA SEMENTES DO VERBO – PALMAS – TO\nRetiro de Discernimento: “Senhor que queres que eu faça?”\n“A esperança se apoia sobre as promessas de Deus”\nPregado pela Comunidade Sementes do Verbo \nEntre em contato\, agende um retiro para seu grupo ou pastoral.
URL:https://sementesdoverbo.org/eventos/retiro-de-discernimento-senhor-que-queres-que-eu-faca/
LOCATION:Palmas – TO\, Loteamento Área Verde Palmas\, Palmas\, tocantins
CATEGORIES:Retiro de Discernimento
END:VEVENT
BEGIN:VEVENT
DTSTART;VALUE=DATE:20250125
DTEND;VALUE=DATE:20250126
DTSTAMP:20260424T090053
CREATED:20250411T144141Z
LAST-MODIFIED:20250411T144619Z
UID:10489-1737763200-1737849599@sementesdoverbo.org
SUMMARY:Brasil - AM | Santa Missa - Início do Ano Sabático
DESCRIPTION:
URL:https://sementesdoverbo.org/eventos/brasil-am-santa-missa-inicio-do-ano-sabatico/
LOCATION:Maria de Loreto\, Rodovia AM 010\, Km 26 Manaus - AM\, Manaus\, Amazônia\, Brasil
CATEGORIES:Ano Sabático
END:VEVENT
END:VCALENDAR