BEGIN:VCALENDAR
VERSION:2.0
PRODID:-//Comunidade Sementes do Verbo - ECPv6.15.20//NONSGML v1.0//EN
CALSCALE:GREGORIAN
METHOD:PUBLISH
X-WR-CALNAME:Comunidade Sementes do Verbo
X-ORIGINAL-URL:https://sementesdoverbo.org
X-WR-CALDESC:Eventos para Comunidade Sementes do Verbo
REFRESH-INTERVAL;VALUE=DURATION:PT1H
X-Robots-Tag:noindex
X-PUBLISHED-TTL:PT1H
BEGIN:VTIMEZONE
TZID:America/Sao_Paulo
BEGIN:STANDARD
TZOFFSETFROM:-0300
TZOFFSETTO:-0300
TZNAME:-03
DTSTART:20240101T000000
END:STANDARD
END:VTIMEZONE
BEGIN:VEVENT
DTSTART;VALUE=DATE:20250930
DTEND;VALUE=DATE:20251001
DTSTAMP:20260424T054523
CREATED:20250227T222134Z
LAST-MODIFIED:20250227T222134Z
UID:9878-1759190400-1759276799@sementesdoverbo.org
SUMMARY:Brasil-PA | Aniversário de Fundação da Casa de Retiros Monte Tabor
DESCRIPTION:Aniversário de Fundação da Casa de Retiros Monte Tabor\nSanta Missa
URL:https://sementesdoverbo.org/eventos/aniversario-de-fundacao-monte-tabor/
LOCATION:Monte Tabor\, Tv do Cruzeiro\, 404\, Cruzeiro. Belém - PA\, Belém\, Pará\, 66810-010\, Brasil
CATEGORIES:Eventos
END:VEVENT
BEGIN:VEVENT
DTSTART;TZID=America/Sao_Paulo:20250905T080000
DTEND;TZID=America/Sao_Paulo:20250907T140000
DTSTAMP:20260424T054523
CREATED:20250227T164201Z
LAST-MODIFIED:20250227T164340Z
UID:9824-1757059200-1757253600@sementesdoverbo.org
SUMMARY:Brasil - TO | Acampamento Hoje Livre Sou
DESCRIPTION:“Peregrinos da Esperança”
URL:https://sementesdoverbo.org/eventos/brasil-to-acampamento-hoje-livre-sou/
LOCATION:Palmas – TO\, Loteamento Área Verde Palmas\, Palmas\, tocantins
CATEGORIES:Acampamento
END:VEVENT
BEGIN:VEVENT
DTSTART;VALUE=DATE:20250831
DTEND;VALUE=DATE:20250901
DTSTAMP:20260424T054523
CREATED:20250227T163558Z
LAST-MODIFIED:20250227T163733Z
UID:9819-1756598400-1756684799@sementesdoverbo.org
SUMMARY:Brasil-TO | Dominus Day - Fejoada
DESCRIPTION:Dominus Day – Fejoada\n“Para saborear e festejar”
URL:https://sementesdoverbo.org/eventos/brasil-to-dominus-day-fejoada/
LOCATION:Palmas – TO\, Loteamento Área Verde Palmas\, Palmas\, tocantins
CATEGORIES:Eventos
END:VEVENT
BEGIN:VEVENT
DTSTART;VALUE=DATE:20250831
DTEND;VALUE=DATE:20250901
DTSTAMP:20260424T054523
CREATED:20250227T163341Z
LAST-MODIFIED:20250227T163341Z
UID:9817-1756598400-1756684799@sementesdoverbo.org
SUMMARY:Brasil-TO | Um dia em Família
DESCRIPTION:Um dia em Família\n“Famílias\, sinal de esperança para o mundo”
URL:https://sementesdoverbo.org/eventos/brasil-to-um-dia-em-familia/
LOCATION:Palmas – TO\, Loteamento Área Verde Palmas\, Palmas\, tocantins
CATEGORIES:Eventos
END:VEVENT
BEGIN:VEVENT
DTSTART;TZID=America/Sao_Paulo:20250815T080000
DTEND;TZID=America/Sao_Paulo:20250817T140000
DTSTAMP:20260424T054523
CREATED:20250227T163117Z
LAST-MODIFIED:20250227T163117Z
UID:9815-1755244800-1755439200@sementesdoverbo.org
SUMMARY:Brasil-TO | Recria-me II
DESCRIPTION:Recria-me II \n“Ligar o passado\, o presente e o futuro para crescer na liberdade interior” \nPregado pela Comunidade Sementes do Verbo \n 
URL:https://sementesdoverbo.org/eventos/brasil-to-recria-me-ii/
LOCATION:Palmas – TO\, Loteamento Área Verde Palmas\, Palmas\, tocantins
CATEGORIES:Retiro de cura
END:VEVENT
BEGIN:VEVENT
DTSTART;TZID=America/Sao_Paulo:20250814T080000
DTEND;TZID=America/Sao_Paulo:20250817T140000
DTSTAMP:20260424T054523
CREATED:20250307T162543Z
LAST-MODIFIED:20250307T164533Z
UID:10123-1755158400-1755439200@sementesdoverbo.org
SUMMARY:Brasil | PA - Festival de Famílias
DESCRIPTION:Festival de Famílias\n“Peregrinos da Esperança” \nPregado pela Comunidade Sementes do Verbo
URL:https://sementesdoverbo.org/eventos/brasil-pa-festival-de-familias/
LOCATION:Convento Nossa Senhora do Carmo\, TV. Dom Bosco\, 72 - Cidade Velha\, Belém - PA\, Belém\, Pará\, 66020 - 210\, Brasil
CATEGORIES:Festival
END:VEVENT
BEGIN:VEVENT
DTSTART;TZID=America/Sao_Paulo:20250814T080000
DTEND;TZID=America/Sao_Paulo:20250817T140000
DTSTAMP:20260424T054523
CREATED:20250227T221803Z
LAST-MODIFIED:20250307T164600Z
UID:9876-1755158400-1755439200@sementesdoverbo.org
SUMMARY:Brasil-PA | Festival das Famílias
DESCRIPTION:Festival das Famílias \n“Peregrinos da Esperança” \nPregado pelos missionários SdV
URL:https://sementesdoverbo.org/eventos/brasil-pa-festival-das-familias/
LOCATION:Convento Nossa Senhora do Carmo\, TV. Dom Bosco\, 72 - Cidade Velha\, Belém - PA\, Belém\, Pará\, 66020 - 210\, Brasil
CATEGORIES:Festival
END:VEVENT
BEGIN:VEVENT
DTSTART;VALUE=DATE:20250806
DTEND;VALUE=DATE:20250807
DTSTAMP:20260424T054523
CREATED:20250227T221541Z
LAST-MODIFIED:20250227T221541Z
UID:9874-1754438400-1754524799@sementesdoverbo.org
SUMMARY:Brasil-PA | Festa da Transfiguração do Senhor
DESCRIPTION:Festa da Transfiguração do Senhor\nTransfiguração em Família no Tabor \nProgramação especial após a Santa Missa
URL:https://sementesdoverbo.org/eventos/brasil-pa-festa-da-transfiguracao-do-senhor/
LOCATION:Monte Tabor\, Tv do Cruzeiro\, 404\, Cruzeiro. Belém - PA\, Belém\, Pará\, 66810-010\, Brasil
CATEGORIES:Eventos
END:VEVENT
BEGIN:VEVENT
DTSTART;TZID=America/Sao_Paulo:20250802T080000
DTEND;TZID=America/Sao_Paulo:20250803T140000
DTSTAMP:20260424T054523
CREATED:20250227T162159Z
LAST-MODIFIED:20260219T154830Z
UID:9813-1754121600-1754229600@sementesdoverbo.org
SUMMARY:Brasil-TO | Retiro para idosos
DESCRIPTION:Retiro para idosos \n“Transformar a dor em amor” \nPregador por Ir. Maria Ana e Ir. Maria Helena \n 
URL:https://sementesdoverbo.org/eventos/brasil-to-retiro-para-idosos/
LOCATION:Palmas – TO\, Loteamento Área Verde Palmas\, Palmas\, tocantins
CATEGORIES:Retiro
END:VEVENT
BEGIN:VEVENT
DTSTART;TZID=America/Sao_Paulo:20250801T080000
DTEND;TZID=America/Sao_Paulo:20250803T140000
DTSTAMP:20260424T054523
CREATED:20250307T162338Z
LAST-MODIFIED:20250307T162338Z
UID:10120-1754035200-1754229600@sementesdoverbo.org
SUMMARY:Brasil | PA - Retiro das artes
DESCRIPTION:Retiro das artes\ncaminho da beleza como via de evangelização \nPregado pelo Ministério Consol’Art SdV
URL:https://sementesdoverbo.org/eventos/brasil-pa-retiro-das-artes/
LOCATION:Convento Nossa Senhora do Carmo\, TV. Dom Bosco\, 72 - Cidade Velha\, Belém - PA\, Belém\, Pará\, 66020 - 210\, Brasil
CATEGORIES:Retiro
END:VEVENT
BEGIN:VEVENT
DTSTART;TZID=America/Sao_Paulo:20250801T080000
DTEND;TZID=America/Sao_Paulo:20250803T140000
DTSTAMP:20260424T054523
CREATED:20250227T221328Z
LAST-MODIFIED:20260219T154845Z
UID:9872-1754035200-1754229600@sementesdoverbo.org
SUMMARY:Brasil-PA | Retiro para Casais
DESCRIPTION:Retiro para Casais\n“Permanecem a fé\, esperança e caridade” (Cf. 1 Cor 13\, 13) \nPregado pelos missionários SdV:\nPe João\, Ladimir e Cleudia\, Leno e Roseane \n  \n 
URL:https://sementesdoverbo.org/eventos/brasil-pa-retiro-para-casais/
LOCATION:Monte Tabor\, Tv do Cruzeiro\, 404\, Cruzeiro. Belém - PA\, Belém\, Pará\, 66810-010\, Brasil
CATEGORIES:Retiro
END:VEVENT
BEGIN:VEVENT
DTSTART;TZID=America/Sao_Paulo:20250725T080000
DTEND;TZID=America/Sao_Paulo:20250727T150000
DTSTAMP:20260424T054523
CREATED:20250227T221049Z
LAST-MODIFIED:20250227T221108Z
UID:9869-1753430400-1753628400@sementesdoverbo.org
SUMMARY:Brasil-PA | Acampamento "Hoje Livre Sou"
DESCRIPTION:“Hoje Livre Sou” – Acampamento para adolescentes \n“Peregrinos da Esperança” \nPregado pelos missionários SdV
URL:https://sementesdoverbo.org/eventos/acampamento-hoje-livre-sou-2/
LOCATION:Monte Tabor\, Tv do Cruzeiro\, 404\, Cruzeiro. Belém - PA\, Belém\, Pará\, 66810-010\, Brasil
CATEGORIES:Acampamento
END:VEVENT
BEGIN:VEVENT
DTSTART;TZID=America/Sao_Paulo:20250718T180000
DTEND;TZID=America/Sao_Paulo:20250720T150000
DTSTAMP:20260424T054523
CREATED:20250413T152359Z
LAST-MODIFIED:20250413T152359Z
UID:10520-1752861600-1753023600@sementesdoverbo.org
SUMMARY:Brasil - AM | Festival das Crianças
DESCRIPTION:Festival das Crianças \n“Faz a alegria de Jesus” \nPregado pela Comunidade Sementes do Verbo
URL:https://sementesdoverbo.org/eventos/brasil-am-festival-das-criancas/
LOCATION:Maria de Loreto\, Rodovia AM 010\, Km 26 Manaus - AM\, Manaus\, Amazônia\, Brasil
CATEGORIES:Festival
END:VEVENT
BEGIN:VEVENT
DTSTART;TZID=America/Sao_Paulo:20250711T080000
DTEND;TZID=America/Sao_Paulo:20250713T140000
DTSTAMP:20260424T054523
CREATED:20250227T214444Z
LAST-MODIFIED:20250227T215057Z
UID:9865-1752220800-1752415200@sementesdoverbo.org
SUMMARY:Brasil-PA | Recria-me II: Identidade\, Afetividade e Sexualidade
DESCRIPTION:Recria-me II: Identidade\, Afetividade e Sexualidade\n“Contemplar a cruz como caminho de cura pela esperança” \nPregado pelos missionários SdV \n  \n 
URL:https://sementesdoverbo.org/eventos/brasil-pa-recria-me-ii-identidade-afetividade-e-sexualidade/
LOCATION:Monte Tabor\, Tv do Cruzeiro\, 404\, Cruzeiro. Belém - PA\, Belém\, Pará\, 66810-010\, Brasil
CATEGORIES:Retiro de cura
END:VEVENT
BEGIN:VEVENT
DTSTART;TZID=America/Sao_Paulo:20250709T080000
DTEND;TZID=America/Sao_Paulo:20250713T140000
DTSTAMP:20260424T054523
CREATED:20250227T161837Z
LAST-MODIFIED:20250307T164712Z
UID:9811-1752048000-1752415200@sementesdoverbo.org
SUMMARY:Brasil-TO | Festival das Famílias
DESCRIPTION:Festival das Famílias \n“Peregrinos da Esperança.” \nPregado pela Comunidade Sementes do Verbo
URL:https://sementesdoverbo.org/eventos/brasil-to-festival-das-familias/
LOCATION:Palmas – TO\, Loteamento Área Verde Palmas\, Palmas\, tocantins
CATEGORIES:Festival
END:VEVENT
BEGIN:VEVENT
DTSTART;TZID=America/Sao_Paulo:20250704T080000
DTEND;TZID=America/Sao_Paulo:20250706T150000
DTSTAMP:20260424T054523
CREATED:20250227T213735Z
LAST-MODIFIED:20250307T164612Z
UID:9863-1751616000-1751814000@sementesdoverbo.org
SUMMARY:Brasil- PA | Festival de Crianças
DESCRIPTION:Festival de Crianças\n“Jesus é a minha esperança” \nPregado pelos missionários SdV
URL:https://sementesdoverbo.org/eventos/brasil-pa-festival-de-criancas/
LOCATION:Monte Tabor\, Tv do Cruzeiro\, 404\, Cruzeiro. Belém - PA\, Belém\, Pará\, 66810-010\, Brasil
CATEGORIES:Festival
END:VEVENT
BEGIN:VEVENT
DTSTART;TZID=America/Sao_Paulo:20250627T183000
DTEND;TZID=America/Sao_Paulo:20250629T140000
DTSTAMP:20260424T054523
CREATED:20250413T152148Z
LAST-MODIFIED:20250413T152148Z
UID:10518-1751049000-1751205600@sementesdoverbo.org
SUMMARY:Brasil - AM | Recria-me com o cântico dos cânticos
DESCRIPTION:Recria-me com o cântico dos cânticos \n“Passar do desespero e vazio para a esperança e a confiança!” \nPregado por Ir Esther e Ir Maria Bianca
URL:https://sementesdoverbo.org/eventos/brasil-am-recria-me-com-o-cantico-dos-canticos/
LOCATION:Maria de Loreto\, Rodovia AM 010\, Km 26 Manaus - AM\, Manaus\, Amazônia\, Brasil
CATEGORIES:Retiro de cura
END:VEVENT
BEGIN:VEVENT
DTSTART;TZID=America/Sao_Paulo:20250619T080000
DTEND;TZID=America/Sao_Paulo:20250620T150000
DTSTAMP:20260424T054523
CREATED:20250227T215251Z
LAST-MODIFIED:20250227T215316Z
UID:9867-1750320000-1750431600@sementesdoverbo.org
SUMMARY:Brasil- PA | Retiro para Profissionais de Saúde
DESCRIPTION:Retiro para Profissionais de Saúde\n“Para uma viva esperança” (Cf. 1 Pd 1\, 3) \nPregado pelos missionários SdV \n 
URL:https://sementesdoverbo.org/eventos/brasil-pa-retiro-para-profissionais-de-saude/
LOCATION:Monte Tabor\, Tv do Cruzeiro\, 404\, Cruzeiro. Belém - PA\, Belém\, Pará\, 66810-010\, Brasil
CATEGORIES:Retiro
END:VEVENT
BEGIN:VEVENT
DTSTART;VALUE=DATE:20250614
DTEND;VALUE=DATE:20250615
DTSTAMP:20260424T054523
CREATED:20250227T213612Z
LAST-MODIFIED:20250227T213612Z
UID:9861-1749859200-1749945599@sementesdoverbo.org
SUMMARY:Brasil-PA | Dia de Retiro para homens
DESCRIPTION:Dia de Retiro para homens\n“Apóstolos da Esperança” \nPregado pelos missionários SdV: Pe João\, Ir Estêvão e Ladimir \n 
URL:https://sementesdoverbo.org/eventos/brasil-pa-dia-de-retiro-para-homens/
LOCATION:Monte Tabor\, Tv do Cruzeiro\, 404\, Cruzeiro. Belém - PA\, Belém\, Pará\, 66810-010\, Brasil
CATEGORIES:Retiro
END:VEVENT
BEGIN:VEVENT
DTSTART;VALUE=DATE:20250614
DTEND;VALUE=DATE:20250615
DTSTAMP:20260424T054523
CREATED:20250227T161525Z
LAST-MODIFIED:20250227T161631Z
UID:9808-1749859200-1749945599@sementesdoverbo.org
SUMMARY:Brasil-TO | Dominus Day - Pizza
DESCRIPTION:“Para saborear e festejar” \nA partir das 19h
URL:https://sementesdoverbo.org/eventos/brasil-dominus-day-pizza/
LOCATION:Pará
CATEGORIES:Eventos
END:VEVENT
BEGIN:VEVENT
DTSTART;TZID=America/Sao_Paulo:20250613T080000
DTEND;TZID=America/Sao_Paulo:20250615T140000
DTSTAMP:20260424T054523
CREATED:20250307T134055Z
LAST-MODIFIED:20250307T134439Z
UID:10116-1749801600-1749996000@sementesdoverbo.org
SUMMARY:Brasil | PA - Retiro para Mulheres
DESCRIPTION:Retiro para Mulheres\n“Sei em quem coloquei minha esperança” (2Tm 1\,12) \nPregado por Irmã Victória e Irmã Luzia
URL:https://sementesdoverbo.org/eventos/brasil-pa-retiro-para-mulheres-2/
LOCATION:Convento Nossa Senhora do Carmo\, TV. Dom Bosco\, 72 - Cidade Velha\, Belém - PA\, Belém\, Pará\, 66020 - 210\, Brasil
CATEGORIES:Retiro,Retiro de cura
END:VEVENT
BEGIN:VEVENT
DTSTART;TZID=America/Sao_Paulo:20250612T080000
DTEND;TZID=America/Sao_Paulo:20250616T183000
DTSTAMP:20260424T054523
CREATED:20250307T135749Z
LAST-MODIFIED:20250307T135806Z
UID:10118-1749715200-1750098600@sementesdoverbo.org
SUMMARY:Brasil | PA - Festividade Nossa Senhora do Carmo
DESCRIPTION:DIAS 12 a 15 – MISSAS DO TRÍDUO \nN. S. DO CARMO QUARTA-FEIRA\, (CINCO MISSAS) \nSÁB – TER\, 18h30 \nQUARTA-FEIRA\n07h\, 09h\, 12h\, 17h\, 19h \n 
URL:https://sementesdoverbo.org/eventos/brasil-pa-festividade-nossa-senhora-do-carmo/
LOCATION:Convento Nossa Senhora do Carmo\, TV. Dom Bosco\, 72 - Cidade Velha\, Belém - PA\, Belém\, Pará\, 66020 - 210\, Brasil
CATEGORIES:Eventos
END:VEVENT
BEGIN:VEVENT
DTSTART;VALUE=DATE:20250612
DTEND;VALUE=DATE:20250613
DTSTAMP:20260424T054523
CREATED:20250227T212807Z
LAST-MODIFIED:20250227T213325Z
UID:9857-1749686400-1749772799@sementesdoverbo.org
SUMMARY:Brasil- PA | Jantar dos namorados
DESCRIPTION:Jantar dos namorados\nCASA MONTE TABOR – Santa Missa seguida de jantar em casal \n“Unidos na esperança”
URL:https://sementesdoverbo.org/eventos/brasil-pa-jantar-dos-namorados/
LOCATION:Monte Tabor\, Tv do Cruzeiro\, 404\, Cruzeiro. Belém - PA\, Belém\, Pará\, 66810-010\, Brasil
CATEGORIES:Eventos
END:VEVENT
BEGIN:VEVENT
DTSTART;TZID=America/Sao_Paulo:20250606T080000
DTEND;TZID=America/Sao_Paulo:20250606T140000
DTSTAMP:20260424T054523
CREATED:20250227T161136Z
LAST-MODIFIED:20250227T161209Z
UID:9806-1749196800-1749218400@sementesdoverbo.org
SUMMARY:Brasil-TO | Retiro de Pentecostes
DESCRIPTION:Retiro de Pentecostes\n“Chama Viva de Amor: os efeitos do Espírito Santo na alma” \nPregado pela Comunidade Sementes do Verbo \n 
URL:https://sementesdoverbo.org/eventos/brasil-to-retiro-de-pentecostes/
LOCATION:Palmas – TO\, Loteamento Área Verde Palmas\, Palmas\, tocantins
CATEGORIES:Retiro
END:VEVENT
BEGIN:VEVENT
DTSTART;TZID=America/Sao_Paulo:20250530T203000
DTEND;TZID=America/Sao_Paulo:20250607T203000
DTSTAMP:20260424T054523
CREATED:20250413T151635Z
LAST-MODIFIED:20250413T151705Z
UID:10514-1748637000-1749328200@sementesdoverbo.org
SUMMARY:Brasil - AM | Seminário de vida no Espírito Santo
DESCRIPTION:Seminário de vida no Espírito Santo \n“A vida no Espírito é uma vida transformada em amor!” \nPregado pela Comunidade Sementes do Verbo \nTodas as noites às: 20:30h
URL:https://sementesdoverbo.org/eventos/brasil-am-seminario-de-vida-no-espirito-santo/
LOCATION:Maria de Loreto\, Rodovia AM 010\, Km 26 Manaus - AM\, Manaus\, Amazônia\, Brasil
CATEGORIES:Retiro
END:VEVENT
BEGIN:VEVENT
DTSTART;TZID=America/Sao_Paulo:20250530T180000
DTEND;TZID=America/Sao_Paulo:20250601T160000
DTSTAMP:20260424T054523
CREATED:20250413T151311Z
LAST-MODIFIED:20250413T151335Z
UID:10512-1748628000-1748793600@sementesdoverbo.org
SUMMARY:Brasil - AM | Retiro de Casais
DESCRIPTION:Retiro de Casais  \n“A excelência do amor” \nPregado por Nelito e Flavia\, Rosivan e Kelly
URL:https://sementesdoverbo.org/eventos/brasil-am-retiro-de-casais/
LOCATION:Maria de Loreto\, Rodovia AM 010\, Km 26 Manaus - AM\, Manaus\, Amazônia\, Brasil
CATEGORIES:Retiro para casais
END:VEVENT
BEGIN:VEVENT
DTSTART;TZID=America/Sao_Paulo:20250530T080000
DTEND;TZID=America/Sao_Paulo:20250605T140000
DTSTAMP:20260424T054523
CREATED:20250227T160621Z
LAST-MODIFIED:20250227T160845Z
UID:9804-1748592000-1749132000@sementesdoverbo.org
SUMMARY:Brasil-TO | Novena de Pentecostes
DESCRIPTION:Novena de Pentecostes\n“A vida no espírito é uma vida transformada em amor”
URL:https://sementesdoverbo.org/eventos/brasil-to-novena-de-pentecostes/
LOCATION:Palmas – TO\, Loteamento Área Verde Palmas\, Palmas\, tocantins
CATEGORIES:Retiro
END:VEVENT
BEGIN:VEVENT
DTSTART;TZID=America/Sao_Paulo:20250530T080000
DTEND;TZID=America/Sao_Paulo:20250601T170000
DTSTAMP:20260424T054523
CREATED:20250227T212429Z
LAST-MODIFIED:20250307T164624Z
UID:9855-1748592000-1748797200@sementesdoverbo.org
SUMMARY:Brasil-PA | Festival de Jovens
DESCRIPTION:Festival de Jovens\n“A esperança é a virtude de quem tem o coração jovem” Papa Francisco \nPregado pelos missionários SdV
URL:https://sementesdoverbo.org/eventos/brasil-pa-festival-de-jovens/
LOCATION:Convento Nossa Senhora do Carmo\, TV. Dom Bosco\, 72 - Cidade Velha\, Belém - PA\, Belém\, Pará\, 66020 - 210\, Brasil
CATEGORIES:Festival
END:VEVENT
BEGIN:VEVENT
DTSTART;TZID=America/Sao_Paulo:20250523T080000
DTEND;TZID=America/Sao_Paulo:20250525T140000
DTSTAMP:20260424T054523
CREATED:20250227T212028Z
LAST-MODIFIED:20250227T212028Z
UID:9853-1747987200-1748181600@sementesdoverbo.org
SUMMARY:Brasil-PA | Retiro para Mulheres
DESCRIPTION:Retiro para Mulheres \n“Maria nos ensina a virtude da esperança” \nPregado pelos missionárias SdV: \nIr Maria Salomé\, Ir Rosa\, Ir Maria Domingas e Cleudia
URL:https://sementesdoverbo.org/eventos/brasil-pa-retiro-para-mulheres/
LOCATION:Monte Tabor\, Tv do Cruzeiro\, 404\, Cruzeiro. Belém - PA\, Belém\, Pará\, 66810-010\, Brasil
CATEGORIES:Retiro
END:VEVENT
BEGIN:VEVENT
DTSTART;TZID=America/Sao_Paulo:20250515T080000
DTEND;TZID=America/Sao_Paulo:20250518T140000
DTSTAMP:20260424T054523
CREATED:20250227T160044Z
LAST-MODIFIED:20250227T160404Z
UID:9800-1747296000-1747576800@sementesdoverbo.org
SUMMARY:Brasil-TO | Recria-me I
DESCRIPTION:Recria-me I\n“Você é conhecido\, amado e esperado” \nPregado pela Comunidade Sementes do Verbo
URL:https://sementesdoverbo.org/eventos/brasil-to-recria-me-i/
LOCATION:Palmas – TO\, Loteamento Área Verde Palmas\, Palmas\, tocantins
CATEGORIES:Retiro de cura
END:VEVENT
END:VCALENDAR