BEGIN:VCALENDAR
VERSION:2.0
PRODID:-//Comunidade Sementes do Verbo - ECPv6.15.20//NONSGML v1.0//EN
CALSCALE:GREGORIAN
METHOD:PUBLISH
X-WR-CALNAME:Comunidade Sementes do Verbo
X-ORIGINAL-URL:https://sementesdoverbo.org
X-WR-CALDESC:Eventos para Comunidade Sementes do Verbo
REFRESH-INTERVAL;VALUE=DURATION:PT1H
X-Robots-Tag:noindex
X-PUBLISHED-TTL:PT1H
BEGIN:VTIMEZONE
TZID:America/Sao_Paulo
BEGIN:STANDARD
TZOFFSETFROM:-0300
TZOFFSETTO:-0300
TZNAME:-03
DTSTART:20240101T000000
END:STANDARD
END:VTIMEZONE
BEGIN:VEVENT
DTSTART;TZID=America/Sao_Paulo:20260213T180000
DTEND;TZID=America/Sao_Paulo:20260217T140000
DTSTAMP:20260424T021246
CREATED:20260303T163756Z
LAST-MODIFIED:20260303T163756Z
UID:21256-1771005600-1771336800@sementesdoverbo.org
SUMMARY:Tocantins – Palmas | Festival de Jovens
DESCRIPTION:Festival de Jovens \n“Curados em suas Feridas” \nAnimado pela Comunidade SdV
URL:https://sementesdoverbo.org/eventos/tocantins-palmas-festival-de-jovens/
LOCATION:Palmas – TO\, Loteamento Área Verde Palmas\, Palmas\, tocantins
CATEGORIES:Festival
END:VEVENT
BEGIN:VEVENT
DTSTART;TZID=America/Sao_Paulo:20260213T180000
DTEND;TZID=America/Sao_Paulo:20260215T140000
DTSTAMP:20260424T021246
CREATED:20260110T164203Z
LAST-MODIFIED:20260110T165120Z
UID:20470-1771005600-1771164000@sementesdoverbo.org
SUMMARY:África - Dombe | Festival de Jovens
DESCRIPTION:“Por Suas chagas fomos curados.” \nPregado pela Comunidade Sementes do Verbo
URL:https://sementesdoverbo.org/eventos/africa-mo-festival-de-jovens/
LOCATION:Santa Bakita\, Posto Administrativo de Dombe\, Distrito de Sussundenga\, Dombe\, Moçambique\, Brasil
CATEGORIES:Festival
END:VEVENT
BEGIN:VEVENT
DTSTART;VALUE=DATE:20260213
DTEND;VALUE=DATE:20260214
DTSTAMP:20260424T021246
CREATED:20260219T155629Z
LAST-MODIFIED:20260219T155629Z
UID:21034-1770940800-1771027199@sementesdoverbo.org
SUMMARY:Rio de Janeiro - Bangu | Holy Night - Vigília Jovem
DESCRIPTION:Holy Night – Vigília Jovem \n“Em suas feridas fomos curados” \nAnimado pela Comunidade Sementes do Verbo
URL:https://sementesdoverbo.org/eventos/rio-de-janeiro-bangu-holy-night-vigilia-jovem/
LOCATION:Bangu – NS do Rosário\, Estrada Guandú do Sena\, 2051 - Bangú
CATEGORIES:Eventos
END:VEVENT
BEGIN:VEVENT
DTSTART;VALUE=DATE:20260211
DTEND;VALUE=DATE:20260212
DTSTAMP:20260424T021246
CREATED:20260326T123018Z
LAST-MODIFIED:20260326T123018Z
UID:21494-1770768000-1770854399@sementesdoverbo.org
SUMMARY:Rio de Janeiro – São Francisco de Sales |  Aniversário de Fundação 10 anos da Casa SFS
DESCRIPTION:Missa em Ação de Graças Comunidade Sementes do Verbo \nQuinta-feira\, 18h30
URL:https://sementesdoverbo.org/eventos/rio-de-janeiro-sao-francisco-de-sales-aniversario-de-fundacao-10-anos-da-casa-sfs/
LOCATION:Rua Luís Zancheta\, nº 48. Bairro Riachuelo – Rio de Janeiro RJ
CATEGORIES:Eventos
END:VEVENT
BEGIN:VEVENT
DTSTART;TZID=America/Sao_Paulo:20260206T183000
DTEND;TZID=America/Sao_Paulo:20260208T140000
DTSTAMP:20260424T021246
CREATED:20260115T162722Z
LAST-MODIFIED:20260115T162722Z
UID:20578-1770402600-1770559200@sementesdoverbo.org
SUMMARY:Pará- Carmo | Retiro de Discernimento
DESCRIPTION:Retiro de Discernimento \n“Senhor\, o que queres que eu faca?” \n“Obedecer à voz de Deus mesmo quando o mundo se opõe” \nPe. João Maria e Ir. Maria Salomé
URL:https://sementesdoverbo.org/eventos/para-carmo-retiro-de-discernimento/
LOCATION:Convento Nossa Senhora do Carmo\, TV. Dom Bosco\, 72 - Cidade Velha\, Belém - PA\, Belém\, Pará\, 66020 - 210\, Brasil
CATEGORIES:Retiro de Discernimento
END:VEVENT
BEGIN:VEVENT
DTSTART;VALUE=DATE:20260131
DTEND;VALUE=DATE:20260201
DTSTAMP:20260424T021246
CREATED:20260110T163645Z
LAST-MODIFIED:20260110T165103Z
UID:20466-1769817600-1769903999@sementesdoverbo.org
SUMMARY:África - Dombe | Formação para os Catequistas
DESCRIPTION:Formação para os Catequistas \nTema: “Por Suas chagas fomos curados” \nPregadores: Pe. Christophe\, Ir. Elaine e Ir. Noemi
URL:https://sementesdoverbo.org/eventos/africa-mo-formacao-para-os-catequistas/
LOCATION:Santa Bakita\, Posto Administrativo de Dombe\, Distrito de Sussundenga\, Dombe\, Moçambique\, Brasil
CATEGORIES:Retiro
END:VEVENT
BEGIN:VEVENT
DTSTART;TZID=America/Sao_Paulo:20260130T183000
DTEND;TZID=America/Sao_Paulo:20260201T140000
DTSTAMP:20260424T021246
CREATED:20260303T163406Z
LAST-MODIFIED:20260326T121143Z
UID:21254-1769797800-1769954400@sementesdoverbo.org
SUMMARY:Tocantins – Palmas | Retiro de discernimento: Senhor\, que queres que eu faça?
DESCRIPTION:Retiro de discernimento: Senhor\, que queres que eu faça? \n“Chamados pelo amor\, não pelo mérito.” \nPregado pela Comunidade SdV
URL:https://sementesdoverbo.org/eventos/retiro-de-discernimento-senhor-que-queres-que-eu-faca-3/
LOCATION:Palmas – TO\, Loteamento Área Verde Palmas\, Palmas\, tocantins
CATEGORIES:Retiro de Discernimento
END:VEVENT
BEGIN:VEVENT
DTSTART;VALUE=DATE:20260125
DTEND;VALUE=DATE:20260126
DTSTAMP:20260424T021246
CREATED:20260114T163633Z
LAST-MODIFIED:20260219T154716Z
UID:20538-1769299200-1769385599@sementesdoverbo.org
SUMMARY:Manaus - Loreto | Missa de abertura da Escola do Ano Sabático
DESCRIPTION:Missa de abertura da Escola do Ano Sabático
URL:https://sementesdoverbo.org/eventos/manaus-loreto-missa-de-abertura-da-escola-do-ano-sabatico/
LOCATION:Maria de Loreto\, Rodovia AM 010\, Km 26 Manaus - AM\, Manaus\, Amazônia\, Brasil
CATEGORIES:Ano Sabático
END:VEVENT
BEGIN:VEVENT
DTSTART;VALUE=DATE:20260125
DTEND;VALUE=DATE:20260126
DTSTAMP:20260424T021246
CREATED:20260110T162400Z
LAST-MODIFIED:20260110T165011Z
UID:20460-1769299200-1769385599@sementesdoverbo.org
SUMMARY:África - Dombe | Missa inicial de Ano Sabático
DESCRIPTION:Missa inicial de Ano Sabático \n9 MESES\nde escola de vida espiritual\,\nhumana e missionária\nO Ano Sabático é uma escola para ser novamente gerado pela Palavra de Deus\, pela liturgia e pela vida fraterna. \nÉ um tempo de cura\, conversão\, formação\, santificação\, discernimento vocacional e missão. Uma fisioterapia da alma\, onde se aprende a ter ouvidos de discípulo para se concentrar na voz de Deus e receber forças para seguir seu chamado.
URL:https://sementesdoverbo.org/eventos/missa-inicial-de-ano-sabatico/
LOCATION:Santa Bakita\, Posto Administrativo de Dombe\, Distrito de Sussundenga\, Dombe\, Moçambique\, Brasil
CATEGORIES:Ano Sabático
END:VEVENT
BEGIN:VEVENT
DTSTART;TZID=America/Sao_Paulo:20260124T183000
DTEND;TZID=America/Sao_Paulo:20260126T140000
DTSTAMP:20260424T021246
CREATED:20260116T154257Z
LAST-MODIFIED:20260116T154750Z
UID:20595-1769279400-1769436000@sementesdoverbo.org
SUMMARY:Pará - Carmo | Retiro para Mulheres
DESCRIPTION:Retiro para Mulheres  \nNa escola de Santa Clara: “Sê pequena diante do Altíssimo e Ele te exaltará.” \nIr. Victória\, Ir. Luzia e Críscia
URL:https://sementesdoverbo.org/eventos/retiro-para-mulheres/
LOCATION:Convento Nossa Senhora do Carmo\, TV. Dom Bosco\, 72 - Cidade Velha\, Belém - PA\, Belém\, Pará\, 66020 - 210\, Brasil
CATEGORIES:Retiro para mulheres
END:VEVENT
BEGIN:VEVENT
DTSTART;VALUE=DATE:20260124
DTEND;VALUE=DATE:20260125
DTSTAMP:20260424T021246
CREATED:20260303T162929Z
LAST-MODIFIED:20260303T163020Z
UID:21251-1769212800-1769299199@sementesdoverbo.org
SUMMARY:Tocantins – Palmas | Holy Night
DESCRIPTION:Holy Night \n“Transformai-vos pela renovação do vosso espírito.” (Rm 12\,2) \nAnimado pela Comunidade SdV
URL:https://sementesdoverbo.org/eventos/tocantins-palmas-holy-night/
LOCATION:Palmas – TO\, Loteamento Área Verde Palmas\, Palmas\, tocantins
CATEGORIES:Eventos
END:VEVENT
BEGIN:VEVENT
DTSTART;TZID=America/Sao_Paulo:20260123T183000
DTEND;TZID=America/Sao_Paulo:20260125T140000
DTSTAMP:20260424T021246
CREATED:20260326T122858Z
LAST-MODIFIED:20260326T122858Z
UID:21492-1769193000-1769349600@sementesdoverbo.org
SUMMARY:Rio de Janeiro – São Francisco de Sales | Na Escola de São Francisco de Assis
DESCRIPTION:“Francisco como alter Christus: Inspiração para viver a vocação com Cristo.” \nPregado por Ir Kyria\, Ir Magdalena e Ir João Matheus
URL:https://sementesdoverbo.org/eventos/rio-de-janeiro-sao-francisco-de-sales-na-escola-de-sao-francisco-de-assis/
LOCATION:Rua Luís Zancheta\, nº 48. Bairro Riachuelo – Rio de Janeiro RJ
CATEGORIES:Retiro
END:VEVENT
BEGIN:VEVENT
DTSTART;TZID=America/Sao_Paulo:20260121T080000
DTEND;TZID=America/Sao_Paulo:20260121T170000
DTSTAMP:20260424T021246
CREATED:20260121T175109Z
LAST-MODIFIED:20260121T175148Z
UID:20673-1768982400-1769014800@sementesdoverbo.org
SUMMARY:Pará - Carmo | Retiro para homens
DESCRIPTION:Retiro para homens \n“Transformai-vos pela renovação do vosso espírito” (Rm 12\,2) \nPe. João Maria\, Ronaldo e Roberto
URL:https://sementesdoverbo.org/eventos/para-carmo-retiro-para-homens/
LOCATION:Convento Nossa Senhora do Carmo\, TV. Dom Bosco\, 72 - Cidade Velha\, Belém - PA\, Belém\, Pará\, 66020 - 210\, Brasil
CATEGORIES:Retiro para homens
END:VEVENT
BEGIN:VEVENT
DTSTART;VALUE=DATE:20260110
DTEND;VALUE=DATE:20260111
DTSTAMP:20260424T021246
CREATED:20260110T173228Z
LAST-MODIFIED:20260110T173228Z
UID:20506-1768003200-1768089599@sementesdoverbo.org
SUMMARY:Canadá - Montréal | RETRAITE AVEC LES PSAUMES
DESCRIPTION:« Les psaumes\, source de la prière chrétienne » \nPrêchée par Christine Raffara
URL:https://sementesdoverbo.org/eventos/canada-montreal-retraite-avec-les-psaumes/
LOCATION:2065 Rue Sherbrooke West\, Montréal – Québec\, H3H 1G6\, 2065 Rue Sherbrooke West\, Montréal - Québec\, H3H 1G6\, Montréal\, Québec\,\, Canada
CATEGORIES:Retiro
END:VEVENT
BEGIN:VEVENT
DTSTART;TZID=America/Sao_Paulo:20260109T183000
DTEND;TZID=America/Sao_Paulo:20260111T150000
DTSTAMP:20260424T021246
CREATED:20260114T163215Z
LAST-MODIFIED:20260114T163445Z
UID:20534-1767983400-1768143600@sementesdoverbo.org
SUMMARY:Manaus - Loreto | Retiro de Discernimento
DESCRIPTION:Retiro de Discernimento \n“Senhor\, o que queres que eu faça?” (At 22\,10) \nPregado por Pe. João Batista\, Ir. Dulce e Ir. Esther
URL:https://sementesdoverbo.org/eventos/retiro-de-discernimento-2/
LOCATION:Maria de Loreto\, Rodovia AM 010\, Km 26 Manaus - AM\, Manaus\, Amazônia\, Brasil
CATEGORIES:Retiro de Discernimento
END:VEVENT
BEGIN:VEVENT
DTSTART;VALUE=DATE:20260101
DTEND;VALUE=DATE:20260102
DTSTAMP:20260424T021246
CREATED:20260219T154151Z
LAST-MODIFIED:20260219T154744Z
UID:21024-1767225600-1767311999@sementesdoverbo.org
SUMMARY:Rio de Janeiro - Bangu | Discernimento final da Escola do Ano Sabático
DESCRIPTION:“Um ano da Graça do Senhor” \nMissa presidida por Dom Célio
URL:https://sementesdoverbo.org/eventos/rio-de-janeiro-bangu-discernimento-final-da-escola-do-ano-sabatico/
LOCATION:Bangu – NS do Rosário\, Estrada Guandú do Sena\, 2051 - Bangú
END:VEVENT
BEGIN:VEVENT
DTSTART;TZID=America/Sao_Paulo:20251230T080000
DTEND;TZID=America/Sao_Paulo:20260101T140000
DTSTAMP:20260424T021246
CREATED:20250307T163626Z
LAST-MODIFIED:20260219T155423Z
UID:10133-1767081600-1767276000@sementesdoverbo.org
SUMMARY:BRASIL | PA - Retiro de ano novo |Seminário de Vida no Espírito Santo
DESCRIPTION:Retiro de ano novo |Seminário de Vida no Espírito Santo\n“Que pela ação do Espírito Santo a vossa esperança transborde.” (Rm 15\,13)\n\nPregado pelos Seminaristas SdV
URL:https://sementesdoverbo.org/eventos/brasil-pa-retiro-de-ano-novo-seminario-de-vida-no-espirito-santo/
LOCATION:Convento Nossa Senhora do Carmo\, TV. Dom Bosco\, 72 - Cidade Velha\, Belém - PA\, Belém\, Pará\, 66020 - 210\, Brasil
CATEGORIES:Retiro
END:VEVENT
BEGIN:VEVENT
DTSTART;TZID=America/Sao_Paulo:20251229T080000
DTEND;TZID=America/Sao_Paulo:20260101T150000
DTSTAMP:20260424T021246
CREATED:20250227T201911Z
LAST-MODIFIED:20250413T154310Z
UID:9840-1766995200-1767279600@sementesdoverbo.org
SUMMARY:Brasil-TO | Retiro de Ano Novo
DESCRIPTION:Pregado pela Comunidade Sementes do Verbo\n“Passar do desespero e vazio para a esperança e a confiança!”
URL:https://sementesdoverbo.org/eventos/brasil-to-retiro-de-ano-novo/
CATEGORIES:Retiro
END:VEVENT
BEGIN:VEVENT
DTSTART;TZID=America/Sao_Paulo:20251229T080000
DTEND;TZID=America/Sao_Paulo:20260101T140000
DTSTAMP:20260424T021246
CREATED:20250227T222812Z
LAST-MODIFIED:20250307T130818Z
UID:9884-1766995200-1767276000@sementesdoverbo.org
SUMMARY:Brasil-PA | Retiro de Ano Novo: Recria-me com São João
DESCRIPTION:Retiro de Ano Novo | Recria-me com São João\n“Que a vossa alegria seja completa” (1 Jo 1\,2) \nPregado pelos missionários SdV
URL:https://sementesdoverbo.org/eventos/brasil-pa-retiro-de-ano-novo-recria-me-com-sao-joao/
LOCATION:Monte Tabor\, Tv do Cruzeiro\, 404\, Cruzeiro. Belém - PA\, Belém\, Pará\, 66810-010\, Brasil
CATEGORIES:Retiro
END:VEVENT
BEGIN:VEVENT
DTSTART;TZID=America/Sao_Paulo:20251223T080000
DTEND;TZID=America/Sao_Paulo:20251225T140000
DTSTAMP:20260424T021246
CREATED:20250307T163424Z
LAST-MODIFIED:20250307T163424Z
UID:10131-1766476800-1766671200@sementesdoverbo.org
SUMMARY:BRASIL | PA - Retiro de Natal
DESCRIPTION:Retiro de Natal\n“Pela esperança é que fomos salvos” (Rm 8\, 24) \nPregado pela Comunidade Sementes do Verbo
URL:https://sementesdoverbo.org/eventos/brasil-pa-retiro-de-natal-2/
CATEGORIES:Retiro
END:VEVENT
BEGIN:VEVENT
DTSTART;TZID=America/Sao_Paulo:20251222T080000
DTEND;TZID=America/Sao_Paulo:20251225T150000
DTSTAMP:20260424T021246
CREATED:20250227T201304Z
LAST-MODIFIED:20250227T201427Z
UID:9838-1766390400-1766674800@sementesdoverbo.org
SUMMARY:Brasil-TO | Retiro de Natal
DESCRIPTION:Retiro de Natal \n“Conhecia-te só de ouvido\, mas agora viram-te meus olhos”
URL:https://sementesdoverbo.org/eventos/brasil-to-retiro-de-natal/
LOCATION:Palmas – TO\, Loteamento Área Verde Palmas\, Palmas\, tocantins
CATEGORIES:Retiro
END:VEVENT
BEGIN:VEVENT
DTSTART;TZID=America/Sao_Paulo:20251123T080000
DTEND;TZID=America/Sao_Paulo:20251125T140000
DTSTAMP:20260424T021246
CREATED:20250227T222602Z
LAST-MODIFIED:20250227T222602Z
UID:9882-1763884800-1764079200@sementesdoverbo.org
SUMMARY:Brasil- PA | Retiro de Natal
DESCRIPTION:Retiro de Natal\n“Pela esperança é que fomos salvos” (Rm 8\, 24) \nPregado pelos missionários SdV: Pe João Batista\, Diác\nJoão Maria\, Ir Matias e Ir Anastasia
URL:https://sementesdoverbo.org/eventos/brasil-pa-retiro-de-natal/
LOCATION:Monte Tabor\, Tv do Cruzeiro\, 404\, Cruzeiro. Belém - PA\, Belém\, Pará\, 66810-010\, Brasil
CATEGORIES:Retiro
END:VEVENT
BEGIN:VEVENT
DTSTART;TZID=America/Sao_Paulo:20251121T080000
DTEND;TZID=America/Sao_Paulo:20251123T170000
DTSTAMP:20260424T021246
CREATED:20250227T201023Z
LAST-MODIFIED:20250307T164638Z
UID:9836-1763712000-1763917200@sementesdoverbo.org
SUMMARY:Brasil-TO Festival de Adolescentes
DESCRIPTION:Festival de Adolescentes\n“Peregrinos da Esperança” \nPregado pela Comunidade Sementes do Verbo
URL:https://sementesdoverbo.org/eventos/festival-de-adolescentes-2/
LOCATION:Palmas – TO\, Loteamento Área Verde Palmas\, Palmas\, tocantins
CATEGORIES:Festival
END:VEVENT
BEGIN:VEVENT
DTSTART;TZID=America/Sao_Paulo:20251107T080000
DTEND;TZID=America/Sao_Paulo:20251109T150000
DTSTAMP:20260424T021246
CREATED:20250227T200329Z
LAST-MODIFIED:20250227T200329Z
UID:9834-1762502400-1762700400@sementesdoverbo.org
SUMMARY:Brasil-TO | Retiro Reavivamento no Espírito
DESCRIPTION:Retiro Reavivamento no Espírito\n“O Espírito Santo é um fogo que inflama a alma” \nPregado pela Comunidade Sementes do Verbo \n  \n 
URL:https://sementesdoverbo.org/eventos/brasil-to-retiro-reavivamento-no-espirito/
LOCATION:Palmas – TO\, Loteamento Área Verde Palmas\, Palmas\, tocantins
CATEGORIES:Retiro
END:VEVENT
BEGIN:VEVENT
DTSTART;TZID=America/Sao_Paulo:20251024T080000
DTEND;TZID=America/Sao_Paulo:20251026T150000
DTSTAMP:20260424T021246
CREATED:20250227T195829Z
LAST-MODIFIED:20250227T195944Z
UID:9832-1761292800-1761490800@sementesdoverbo.org
SUMMARY:Retiro de Discernimento: "Senhor que queres que eu faça?"
DESCRIPTION:Retiro de Discernimento: “Senhor que queres que eu faça?”\n“Corações em busca de uma fonte inabalável de esperança” \nPregado pela Comunidade Sementes do Verbo \n 
URL:https://sementesdoverbo.org/eventos/retiro-de-discernimento-senhor-que-queres-que-eu-faca-2/
LOCATION:Palmas – TO\, Loteamento Área Verde Palmas\, Palmas\, tocantins
CATEGORIES:Retiro de cura
END:VEVENT
BEGIN:VEVENT
DTSTART;TZID=America/Sao_Paulo:20251024T080000
DTEND;TZID=America/Sao_Paulo:20251026T140000
DTSTAMP:20260424T021246
CREATED:20250307T163155Z
LAST-MODIFIED:20250307T163210Z
UID:10129-1761292800-1761487200@sementesdoverbo.org
SUMMARY:BRASIL | PA - Retiro para casais
DESCRIPTION:Retiro para casais\n“Onde falta a esperança\, o amor enfraquece.” (S. João Paulo II) \nPregado Pe. Filipe\, Ronaldo e Suzana e Roberto e Larissa
URL:https://sementesdoverbo.org/eventos/brasil-pa-retiro-para-casais-2/
LOCATION:Convento Nossa Senhora do Carmo\, TV. Dom Bosco\, 72 - Cidade Velha\, Belém - PA\, Belém\, Pará\, 66020 - 210\, Brasil
CATEGORIES:Retiro para casais
END:VEVENT
BEGIN:VEVENT
DTSTART;VALUE=DATE:20251011
DTEND;VALUE=DATE:20251012
DTSTAMP:20260424T021246
CREATED:20250307T162940Z
LAST-MODIFIED:20250307T163925Z
UID:10127-1760140800-1760227199@sementesdoverbo.org
SUMMARY:BRASIL | PA - Romaria Fluvial do Círio
DESCRIPTION:Romaria Fluvial do Círio \nCírio de Nossa Senhora de Nazaré\, Belém-PA \nCom a Comunidade Sementes do Verbo
URL:https://sementesdoverbo.org/eventos/brasil-pa-romaria-fluvial-do-cirio/
LOCATION:Convento Nossa Senhora do Carmo\, TV. Dom Bosco\, 72 - Cidade Velha\, Belém - PA\, Belém\, Pará\, 66020 - 210\, Brasil
CATEGORIES:Eventos
END:VEVENT
BEGIN:VEVENT
DTSTART;TZID=America/Sao_Paulo:20251009T080000
DTEND;TZID=America/Sao_Paulo:20251014T170000
DTSTAMP:20260424T021246
CREATED:20250227T195438Z
LAST-MODIFIED:20250227T195600Z
UID:9830-1759996800-1760461200@sementesdoverbo.org
SUMMARY:Brasil-TO | Peregrinação para o Círio de Nazaré
DESCRIPTION:Peregrinação para o Círio à de Nazaré em Belém – Pará \nCom a Comunidade Sementes do Verbo \n 
URL:https://sementesdoverbo.org/eventos/brasil-to-peregrinacao-para-o-cirio-de-nazare/
CATEGORIES:Peregrinação
END:VEVENT
BEGIN:VEVENT
DTSTART;TZID=America/Sao_Paulo:20251004T080000
DTEND;TZID=America/Sao_Paulo:20251005T140000
DTSTAMP:20260424T021246
CREATED:20250227T194539Z
LAST-MODIFIED:20250307T164649Z
UID:9828-1759564800-1759672800@sementesdoverbo.org
SUMMARY:Brasil-TO | Festival das Crianças
DESCRIPTION:Festival das Crianças\n“Faz a alegria de Jesus” \nPregado pela Comunidade Sementes do Verbo
URL:https://sementesdoverbo.org/eventos/brasil-to-festival-das-criancas/
LOCATION:Palmas – TO\, Loteamento Área Verde Palmas\, Palmas\, tocantins
CATEGORIES:Festival
END:VEVENT
BEGIN:VEVENT
DTSTART;VALUE=DATE:20250930
DTEND;VALUE=DATE:20251001
DTSTAMP:20260424T021246
CREATED:20250227T222327Z
LAST-MODIFIED:20260219T154759Z
UID:9880-1759190400-1759276799@sementesdoverbo.org
SUMMARY:Círio Fluvial com a Comunidade Sementes do Verbo
DESCRIPTION:Círio Fluvial com a Comunidade Sementes do Verbo\nCírio de Nossa Senhora de Nazaré\, Belém-PA
URL:https://sementesdoverbo.org/eventos/cirio-fluvial/
LOCATION:Monte Tabor\, Tv do Cruzeiro\, 404\, Cruzeiro. Belém - PA\, Belém\, Pará\, 66810-010\, Brasil
CATEGORIES:Eventos
END:VEVENT
END:VCALENDAR