BEGIN:VCALENDAR
VERSION:2.0
PRODID:-//Comunidade Sementes do Verbo - ECPv6.15.20//NONSGML v1.0//EN
CALSCALE:GREGORIAN
METHOD:PUBLISH
X-WR-CALNAME:Comunidade Sementes do Verbo
X-ORIGINAL-URL:https://sementesdoverbo.org
X-WR-CALDESC:Eventos para Comunidade Sementes do Verbo
REFRESH-INTERVAL;VALUE=DURATION:PT1H
X-Robots-Tag:noindex
X-PUBLISHED-TTL:PT1H
BEGIN:VTIMEZONE
TZID:America/Sao_Paulo
BEGIN:STANDARD
TZOFFSETFROM:-0300
TZOFFSETTO:-0300
TZNAME:-03
DTSTART:20250101T000000
END:STANDARD
END:VTIMEZONE
BEGIN:VEVENT
DTSTART;TZID=America/Sao_Paulo:20260402T170000
DTEND;TZID=America/Sao_Paulo:20260405T150000
DTSTAMP:20260423T225621
CREATED:20260326T124356Z
LAST-MODIFIED:20260326T124416Z
UID:21502-1775149200-1775401200@sementesdoverbo.org
SUMMARY:Itália - Madonna del Rifugio | TRIDUO PASQUALE
DESCRIPTION:“Egli guarisce chi ha il cuore spezzato e fascia le loro piaghe” Sl 147\,3 \n 
URL:https://sementesdoverbo.org/eventos/italia-madonna-del-rifugio-triduo-pasquale/
LOCATION:Madonna del Rifugio\, Via Poggio Baldino\, 184 - 3048 Sinalunga - Siena / IT\, Italy
CATEGORIES:Retiro
END:VEVENT
BEGIN:VEVENT
DTSTART;TZID=America/Sao_Paulo:20260402T170000
DTEND;TZID=America/Sao_Paulo:20260405T140000
DTSTAMP:20260423T225621
CREATED:20260326T153626Z
LAST-MODIFIED:20260326T154021Z
UID:21532-1775149200-1775397600@sementesdoverbo.org
SUMMARY:África – Tete | Retiro de Páscoa
DESCRIPTION:“Ele foi ferido por causa dos nossos pecados… e pelas suas chagas fomos curados.” (cf. Is 53\,5) \nPregado pela comunidade Sementes do Verbo
URL:https://sementesdoverbo.org/eventos/africa-tete-retiro-de-pascoa/
LOCATION:SANTUARIO SÃO JOSÉ DE BOROMA\, Santuário São José de Boroma\, Localidade de Boroma\, Distrito de Marara\, Tete- Moçambique\, tete\, Moçambique\, South Africa
CATEGORIES:Retiro
END:VEVENT
BEGIN:VEVENT
DTSTART;TZID=America/Sao_Paulo:20260402T140000
DTEND;TZID=America/Sao_Paulo:20260405T110000
DTSTAMP:20260423T225621
CREATED:20260326T152841Z
LAST-MODIFIED:20260326T152934Z
UID:21529-1775138400-1775386800@sementesdoverbo.org
SUMMARY:Venezuela - Bolívar | Retiro de Páscoa
DESCRIPTION:“Ele foi ferido por causa dos nossos pecados… e pelas suas chagas fomos curados.” (cf. Is 53\,5). \nPregado por Ir Maria Joana e Ir Paula
URL:https://sementesdoverbo.org/eventos/venezuela-bolivar-retiro-de-pascoa/
LOCATION:SANTA ELENA – VENEZUELA\, Calle Urdaneta\, Qta Residencia Episcopal S/N. Sector Indigena Manak-krü. Santa Elena\, Bolívar\, Venezuela.\, Bolívar\, Venezuela
END:VEVENT
BEGIN:VEVENT
DTSTART;TZID=America/Sao_Paulo:20260402T090000
DTEND;TZID=America/Sao_Paulo:20260404T150000
DTSTAMP:20260423T225621
CREATED:20260110T175511Z
LAST-MODIFIED:20260219T155349Z
UID:20518-1775120400-1775314800@sementesdoverbo.org
SUMMARY:Canadá - Montréal | Retraite de Pâques
DESCRIPTION:Retraite de Pâques \n« Guéris dans ses blessures » \nPrêchée par Communauté Semences du Verbe \n 
URL:https://sementesdoverbo.org/eventos/canada-retraite-de-paques/
CATEGORIES:Retiro
END:VEVENT
BEGIN:VEVENT
DTSTART;TZID=America/Sao_Paulo:20260402T080000
DTEND;TZID=America/Sao_Paulo:20260405T170000
DTSTAMP:20260423T225621
CREATED:20260303T164755Z
LAST-MODIFIED:20260303T164755Z
UID:21264-1775116800-1775408400@sementesdoverbo.org
SUMMARY:Tocantins – Palmas | Retiro de Páscoa
DESCRIPTION:Retiro de Páscoa  \n“Ele foi ferido por causa dos nossos pecados… e pelas suas chagas fomos curados.” (cf. Is 53\,5). \nPregado pela Comunidade SdV
URL:https://sementesdoverbo.org/eventos/tocantins-palmas-retiro-de-pascoa/
LOCATION:Palmas – TO\, Loteamento Área Verde Palmas\, Palmas\, tocantins
CATEGORIES:Retiro
END:VEVENT
BEGIN:VEVENT
DTSTART;TZID=America/Sao_Paulo:20260402T080000
DTEND;TZID=America/Sao_Paulo:20260405T140000
DTSTAMP:20260423T225621
CREATED:20260303T152907Z
LAST-MODIFIED:20260303T152907Z
UID:21218-1775116800-1775397600@sementesdoverbo.org
SUMMARY:África – Maputo | Retiro de Páscoa
DESCRIPTION:Retiro de Páscoa \n“Ele foi ferido por causa dos nossos pecados… e pelas suas chagas fomos curados.” \nPregado pela comunidade Sementes do Verbo
URL:https://sementesdoverbo.org/eventos/africa-maputo-retiro-de-pascoa/
LOCATION:Maputo – Moçambique\, Matutuine - Bela Vista\, Maputo - Moçambique\, South Africa
CATEGORIES:Retiro
END:VEVENT
BEGIN:VEVENT
DTSTART;TZID=America/Sao_Paulo:20260402T080000
DTEND;TZID=America/Sao_Paulo:20260405T140000
DTSTAMP:20260423T225621
CREATED:20260115T164158Z
LAST-MODIFIED:20260115T164158Z
UID:20587-1775116800-1775397600@sementesdoverbo.org
SUMMARY:Pará- Carmo | Retiro de Páscoa
DESCRIPTION:Retiro de Páscoa \n“Jesus veio para curar o coração ferido e restaurar a comunhão com o Pai” \nPe. João Gabriel\, Pe. João Maria e Ir Barthelemy
URL:https://sementesdoverbo.org/eventos/para-carmo-retiro-de-pascoa/
LOCATION:Convento Nossa Senhora do Carmo\, TV. Dom Bosco\, 72 - Cidade Velha\, Belém - PA\, Belém\, Pará\, 66020 - 210\, Brasil
CATEGORIES:Retiro
END:VEVENT
BEGIN:VEVENT
DTSTART;TZID=America/Sao_Paulo:20260328T080000
DTEND;TZID=America/Sao_Paulo:20260329T133000
DTSTAMP:20260423T225621
CREATED:20260303T152426Z
LAST-MODIFIED:20260303T152552Z
UID:21213-1774684800-1774791000@sementesdoverbo.org
SUMMARY:África – Maputo | Formação de Catequistas
DESCRIPTION:Formação de Catequistas \nPregado por Francisco Marcelino e Ir. Antonia
URL:https://sementesdoverbo.org/eventos/africa-maputo-formacao-de-catequistas/
LOCATION:Maputo – Moçambique\, Matutuine - Bela Vista\, Maputo - Moçambique\, South Africa
CATEGORIES:Retiro
END:VEVENT
BEGIN:VEVENT
DTSTART;VALUE=DATE:20260325
DTEND;VALUE=DATE:20260326
DTSTAMP:20260423T225621
CREATED:20260219T160259Z
LAST-MODIFIED:20260219T160341Z
UID:21038-1774396800-1774483199@sementesdoverbo.org
SUMMARY:Rio de Janeiro - Bangu | Abertura da Escola do Ano Sabático
DESCRIPTION:Abertura da Escola do Ano Sabático \n“Um ano da Graça do Senhor” \nMissa presidida por padre Tiago SdV
URL:https://sementesdoverbo.org/eventos/rio-de-janeiro-bangu-abertura-da-escola-do-ano-sabatico/
LOCATION:Bangu – NS do Rosário\, Estrada Guandú do Sena\, 2051 - Bangú
CATEGORIES:Ano Sabático
END:VEVENT
BEGIN:VEVENT
DTSTART;TZID=America/Sao_Paulo:20260322T183000
DTEND;TZID=America/Sao_Paulo:20260323T183000
DTSTAMP:20260423T225621
CREATED:20260219T161018Z
LAST-MODIFIED:20260219T161144Z
UID:21042-1774204200-1774290600@sementesdoverbo.org
SUMMARY:Rio de Janeiro - Bangu | Retiro de Pentecostes
DESCRIPTION:Retiro de Pentecostes \n“Enviai o vosso Espirito\, Senhor\, e renovareis a face da Terra” (cf. Sl 103\,30) \nPregado pela Comunidade Sementes do Verbo \n 
URL:https://sementesdoverbo.org/eventos/rio-de-janeiro-bangu-retiro-de-pentecostes/
LOCATION:Bangu – NS do Rosário\, Estrada Guandú do Sena\, 2051 - Bangú
CATEGORIES:Retiro
END:VEVENT
BEGIN:VEVENT
DTSTART;VALUE=DATE:20260319
DTEND;VALUE=DATE:20260320
DTSTAMP:20260423T225621
CREATED:20260303T164524Z
LAST-MODIFIED:20260303T164524Z
UID:21262-1773878400-1773964799@sementesdoverbo.org
SUMMARY:Tocantins – Palmas | Início do Ano Sabático
DESCRIPTION:Início do Ano Sabático
URL:https://sementesdoverbo.org/eventos/tocantins-palmas-inicio-do-ano-sabatico/
LOCATION:Palmas – TO\, Loteamento Área Verde Palmas\, Palmas\, tocantins
CATEGORIES:Ano Sabático
END:VEVENT
BEGIN:VEVENT
DTSTART;VALUE=DATE:20260319
DTEND;VALUE=DATE:20260320
DTSTAMP:20260423T225621
CREATED:20260110T164501Z
LAST-MODIFIED:20260110T170908Z
UID:20473-1773878400-1773964799@sementesdoverbo.org
SUMMARY:África - Dombe | Recria-me I
DESCRIPTION:Recria-me I \n“No princípio Deus” (Gn 1\,1) \nPregado por Sementes do Verbo
URL:https://sementesdoverbo.org/eventos/africa-mo-recria-me-i/
LOCATION:Santa Bakita\, Posto Administrativo de Dombe\, Distrito de Sussundenga\, Dombe\, Moçambique\, Brasil
CATEGORIES:Retiro de cura
END:VEVENT
BEGIN:VEVENT
DTSTART;TZID=America/Sao_Paulo:20260317T193000
DTEND;TZID=America/Sao_Paulo:20260319T193000
DTSTAMP:20260423T225621
CREATED:20260115T163919Z
LAST-MODIFIED:20260115T163919Z
UID:20585-1773775800-1773948600@sementesdoverbo.org
SUMMARY:Pará- Carmo | Tríduo a São José
DESCRIPTION:Tríduo a São José \n“Viver o dom de si e o abandono De Terça-feira\, a confiante em Deus” \nPregado pela Comunidade Sementes do Verbo após a Santa Missa
URL:https://sementesdoverbo.org/eventos/para-carmo-triduo-a-sao-jose/
LOCATION:Convento Nossa Senhora do Carmo\, TV. Dom Bosco\, 72 - Cidade Velha\, Belém - PA\, Belém\, Pará\, 66020 - 210\, Brasil
CATEGORIES:Novena
END:VEVENT
BEGIN:VEVENT
DTSTART;VALUE=DATE:20260315
DTEND;VALUE=DATE:20260316
DTSTAMP:20260423T225621
CREATED:20260115T145825Z
LAST-MODIFIED:20260219T154632Z
UID:20546-1773532800-1773619199@sementesdoverbo.org
SUMMARY:Manaus - Loreto | Deserto para homens
DESCRIPTION:Deserto para homens \n“Homens\, firmes na esperança” (cf. Hb 10\, 23) 
URL:https://sementesdoverbo.org/eventos/manaus-loreto-deserto-para-homens/
LOCATION:Maria de Loreto\, Rodovia AM 010\, Km 26 Manaus - AM\, Manaus\, Amazônia\, Brasil
CATEGORIES:Retiro para homens
END:VEVENT
BEGIN:VEVENT
DTSTART;VALUE=DATE:20260314
DTEND;VALUE=DATE:20260315
DTSTAMP:20260423T225621
CREATED:20260303T164351Z
LAST-MODIFIED:20260303T164351Z
UID:21260-1773446400-1773532799@sementesdoverbo.org
SUMMARY:Tocantins – Palmas |  Dia de oração em Casal
DESCRIPTION:Dia de oração em Casal  \n“O perdão e a Eucaristia curam o coração.” \nPregado por Wandson e Egracielle\, Nelito e Flávia
URL:https://sementesdoverbo.org/eventos/tocantins-palmas-dia-de-oracao-em-casal/
LOCATION:Palmas – TO\, Loteamento Área Verde Palmas\, Palmas\, tocantins
CATEGORIES:Retiro para casais
END:VEVENT
BEGIN:VEVENT
DTSTART;VALUE=DATE:20260314
DTEND;VALUE=DATE:20260315
DTSTAMP:20260423T225621
CREATED:20260219T160052Z
LAST-MODIFIED:20260219T160052Z
UID:21036-1773446400-1773532799@sementesdoverbo.org
SUMMARY:Rio de Janeiro - Bangu | Jantar de Casais
DESCRIPTION:Jantar de Casais \n“Feridos\, mas unidos” \nAnimado pela Comunidade Sementes do Verbo
URL:https://sementesdoverbo.org/eventos/rio-de-janeiro-bangu-jantar-de-casais/
LOCATION:Bangu – NS do Rosário\, Estrada Guandú do Sena\, 2051 - Bangú
CATEGORIES:Retiro para casais
END:VEVENT
BEGIN:VEVENT
DTSTART;TZID=America/Sao_Paulo:20260313T190000
DTEND;TZID=America/Sao_Paulo:20260315T140000
DTSTAMP:20260423T225621
CREATED:20260110T174040Z
LAST-MODIFIED:20260110T174423Z
UID:20513-1773428400-1773583200@sementesdoverbo.org
SUMMARY:Canadá - Montréal | SEIGNEUR\, QUE VEUX-TU QUE JE FASSE ?
DESCRIPTION:SEIGNEUR\, QUE VEUX-TU QUE JE FASSE ? \n« La pauvreté extérieure et intérieure comme chemin vers la liberté et le don de soi. »   \nPrêchée par Communauté Semences du Verbe
URL:https://sementesdoverbo.org/eventos/20513/
LOCATION:2065 Rue Sherbrooke West\, Montréal – Québec\, H3H 1G6\, 2065 Rue Sherbrooke West\, Montréal - Québec\, H3H 1G6\, Montréal\, Québec\,\, Canada
CATEGORIES:Retiro
END:VEVENT
BEGIN:VEVENT
DTSTART;TZID=America/Sao_Paulo:20260313T183000
DTEND;TZID=America/Sao_Paulo:20260315T140000
DTSTAMP:20260423T225621
CREATED:20260326T123421Z
LAST-MODIFIED:20260326T123421Z
UID:21500-1773426600-1773583200@sementesdoverbo.org
SUMMARY:Rio de Janeiro – São Francisco de Sales | Retiro de Cura: Recria-me com São João.
DESCRIPTION:Pregado pela Comunidade Sementes do Verbo
URL:https://sementesdoverbo.org/eventos/rio-de-janeiro-sao-francisco-de-sales-retiro-de-cura-recria-me-com-sao-joao/
LOCATION:Rua Luís Zancheta\, nº 48. Bairro Riachuelo – Rio de Janeiro RJ
CATEGORIES:Retiro de cura
END:VEVENT
BEGIN:VEVENT
DTSTART;TZID=America/Sao_Paulo:20260313T183000
DTEND;TZID=America/Sao_Paulo:20260315T140000
DTSTAMP:20260423T225621
CREATED:20260115T163328Z
LAST-MODIFIED:20260115T163328Z
UID:20583-1773426600-1773583200@sementesdoverbo.org
SUMMARY:Pará- Carmo | Retiro de Cura Recria-me I : Com o livro de Gênesis
DESCRIPTION:Retiro de Cura Recria-me I : Com o livro de Gênesis \n“No princípio\, Deus” (Gn 1\,1) \nPe. João Maria e Ir. Agostinho
URL:https://sementesdoverbo.org/eventos/para-carmo-retiro-de-cura-recria-me-i-com-o-livro-de-genesis/
LOCATION:Convento Nossa Senhora do Carmo\, TV. Dom Bosco\, 72 - Cidade Velha\, Belém - PA\, Belém\, Pará\, 66020 - 210\, Brasil
CATEGORIES:Retiro de cura
END:VEVENT
BEGIN:VEVENT
DTSTART;VALUE=DATE:20260308
DTEND;VALUE=DATE:20260309
DTSTAMP:20260423T225621
CREATED:20260326T123315Z
LAST-MODIFIED:20260326T123315Z
UID:21498-1772928000-1773014399@sementesdoverbo.org
SUMMARY:Rio de Janeiro – São Francisco de Sales | Dominus Day | Especial Rio 10 anos - Festa de Fundação
DESCRIPTION:Missa as 12h / 13h Dominus Dey \nDomingo\, 12h
URL:https://sementesdoverbo.org/eventos/rio-de-janeiro-sao-francisco-de-sales-dominus-day-especial-rio-10-anos-festa-de-fundacao/
LOCATION:Rua Luís Zancheta\, nº 48. Bairro Riachuelo – Rio de Janeiro RJ
CATEGORIES:Eventos
END:VEVENT
BEGIN:VEVENT
DTSTART;VALUE=DATE:20260308
DTEND;VALUE=DATE:20260309
DTSTAMP:20260423T225621
CREATED:20260114T164248Z
LAST-MODIFIED:20260114T164308Z
UID:20544-1772928000-1773014399@sementesdoverbo.org
SUMMARY:Manaus - Loreto | Dominus Day - Festival de Peixe
DESCRIPTION:Dominus Day – Festival de Peixe \nSanta Missa\, às 11h / Almoço às 12h
URL:https://sementesdoverbo.org/eventos/manaus-loreto-dominus-day-festival-de-peixe/
LOCATION:Maria de Loreto\, Rodovia AM 010\, Km 26 Manaus - AM\, Manaus\, Amazônia\, Brasil
CATEGORIES:Eventos
END:VEVENT
BEGIN:VEVENT
DTSTART;VALUE=DATE:20260301
DTEND;VALUE=DATE:20260302
DTSTAMP:20260423T225621
CREATED:20260303T163939Z
LAST-MODIFIED:20260303T164058Z
UID:21258-1772323200-1772409599@sementesdoverbo.org
SUMMARY:Tocantins – Palmas | Deserto para Homens
DESCRIPTION:Deserto para Homens \n“Deus não apaga as nossas feridas: Ele as transforma em fonte de amor.” \nPregado por Wandson\, Nelito e Pe. Filipe
URL:https://sementesdoverbo.org/eventos/tocantins-palmas-deserto-para-homens/
LOCATION:Palmas – TO\, Loteamento Área Verde Palmas\, Palmas\, tocantins
CATEGORIES:Retiro para homens
END:VEVENT
BEGIN:VEVENT
DTSTART;VALUE=DATE:20260228
DTEND;VALUE=DATE:20260301
DTSTAMP:20260423T225621
CREATED:20260110T163946Z
LAST-MODIFIED:20260110T171111Z
UID:20468-1772236800-1772323199@sementesdoverbo.org
SUMMARY:África - Dombe | Retiro para Casais
DESCRIPTION:“O amor é fundamento da família e do matrimônio.” \nPregado por Pe. Christophe e Ir. Thalita
URL:https://sementesdoverbo.org/eventos/africa-mo-retiro-para-casais/
LOCATION:Santa Bakita\, Posto Administrativo de Dombe\, Distrito de Sussundenga\, Dombe\, Moçambique\, Brasil
CATEGORIES:Retiro para casais
END:VEVENT
BEGIN:VEVENT
DTSTART;TZID=America/Sao_Paulo:20260227T183000
DTEND;TZID=America/Sao_Paulo:20260301T150000
DTSTAMP:20260423T225621
CREATED:20260114T164047Z
LAST-MODIFIED:20260114T164047Z
UID:20542-1772217000-1772377200@sementesdoverbo.org
SUMMARY:Manaus - Loreto | Retiro para mulheres
DESCRIPTION:Retiro para mulheres \n“A ternura e o toque de Deus na fragilidade humana” – Papa Francisco \nPregado por Ir. Esther\, Ir. Suzana e Kelly
URL:https://sementesdoverbo.org/eventos/manaus-loreto-retiro-para-mulheres/
LOCATION:Maria de Loreto\, Rodovia AM 010\, Km 26 Manaus - AM\, Manaus\, Amazônia\, Brasil
CATEGORIES:Retiro para mulheres
END:VEVENT
BEGIN:VEVENT
DTSTART;VALUE=DATE:20260224
DTEND;VALUE=DATE:20260225
DTSTAMP:20260423T225621
CREATED:20260219T154305Z
LAST-MODIFIED:20260219T154659Z
UID:21027-1771891200-1771977599@sementesdoverbo.org
SUMMARY:Rio de Janeiro - Bangu | Sabbatical Day
DESCRIPTION:“Obedecer à voz de Deus mesmo quando Sábado\, à partir o mundo se opõe” \nPregado pela Comunidade Sementes do Verbo
URL:https://sementesdoverbo.org/eventos/rio-de-janeiro-bangu-sabbatical-day/
LOCATION:Bangu – NS do Rosário\, Estrada Guandú do Sena\, 2051 - Bangú
END:VEVENT
BEGIN:VEVENT
DTSTART;VALUE=DATE:20260221
DTEND;VALUE=DATE:20260222
DTSTAMP:20260423T225621
CREATED:20260115T162917Z
LAST-MODIFIED:20260115T162917Z
UID:20580-1771632000-1771718399@sementesdoverbo.org
SUMMARY:Pará- Carmo | Missa de início da escola do Ano Sabático
DESCRIPTION:Missa de início da escola do Ano Sabático \nPresidida por Dom Alberto
URL:https://sementesdoverbo.org/eventos/para-carmo-missa-de-inicio-da-escola-do-ano-sabatico/
LOCATION:Convento Nossa Senhora do Carmo\, TV. Dom Bosco\, 72 - Cidade Velha\, Belém - PA\, Belém\, Pará\, 66020 - 210\, Brasil
CATEGORIES:Ano Sabático
END:VEVENT
BEGIN:VEVENT
DTSTART;VALUE=DATE:20260221
DTEND;VALUE=DATE:20260222
DTSTAMP:20260423T225621
CREATED:20260110T173810Z
LAST-MODIFIED:20260110T173846Z
UID:20509-1771632000-1771718399@sementesdoverbo.org
SUMMARY:Canadá - Montréal | RETRAITE DE CARÊME
DESCRIPTION:RETRAITE DE CARÊME \n« Carême : purifier son coeur pour voir Dieu » \nPrêchée par Communauté Semences du Verbe
URL:https://sementesdoverbo.org/eventos/canada-montreal-retraite-de-careme/
LOCATION:2065 Rue Sherbrooke West\, Montréal – Québec\, H3H 1G6\, 2065 Rue Sherbrooke West\, Montréal - Québec\, H3H 1G6\, Montréal\, Québec\,\, Canada
CATEGORIES:Retiro
END:VEVENT
BEGIN:VEVENT
DTSTART;TZID=America/Sao_Paulo:20260219T080000
DTEND;TZID=America/Sao_Paulo:20260219T170000
DTSTAMP:20260423T225621
CREATED:20260219T165932Z
LAST-MODIFIED:20260219T165932Z
UID:21053-1771488000-1771520400@sementesdoverbo.org
SUMMARY:Rio de Janeiro - Bangu | Holy Night - Vigília Jovem
DESCRIPTION:Holy Night – Vigília Jovem \n“Em suas feridas fomos curados” \nAnimado pela Comunidade Sementes do Verbo
URL:https://sementesdoverbo.org/eventos/rio-de-janeiro-bangu-holy-night-vigilia-jovem-2/
LOCATION:Bangu – NS do Rosário\, Estrada Guandú do Sena\, 2051 - Bangú
CATEGORIES:Eventos
END:VEVENT
BEGIN:VEVENT
DTSTART;TZID=America/Sao_Paulo:20260214T183000
DTEND;TZID=America/Sao_Paulo:20260217T140000
DTSTAMP:20260423T225621
CREATED:20260326T123141Z
LAST-MODIFIED:20260326T123141Z
UID:21496-1771093800-1771336800@sementesdoverbo.org
SUMMARY:Rio de Janeiro – São Francisco de Sales | Retiro de Carnaval
DESCRIPTION:“Deus não apaga as nossa feridas: Ele as transforma em fonte de amor.” \nPregado por Ir Magdalena\, Ir Margarida Maria e Ir Catarina
URL:https://sementesdoverbo.org/eventos/rio-de-janeiro-sao-francisco-de-sales-retiro-de-carnaval/
LOCATION:Rua Luís Zancheta\, nº 48. Bairro Riachuelo – Rio de Janeiro RJ
CATEGORIES:Retiro
END:VEVENT
BEGIN:VEVENT
DTSTART;TZID=America/Sao_Paulo:20260213T183000
DTEND;TZID=America/Sao_Paulo:20260217T150000
DTSTAMP:20260423T225621
CREATED:20260114T163912Z
LAST-MODIFIED:20260114T163912Z
UID:20540-1771007400-1771340400@sementesdoverbo.org
SUMMARY:Manaus - Loreto | Festival de Jovens
DESCRIPTION:Festival de Jovens \n“Curados em suas feridas!”
URL:https://sementesdoverbo.org/eventos/manaus-loreto-festival-de-jovens/
LOCATION:Maria de Loreto\, Rodovia AM 010\, Km 26 Manaus - AM\, Manaus\, Amazônia\, Brasil
CATEGORIES:Festival
END:VEVENT
END:VCALENDAR