BEGIN:VCALENDAR
VERSION:2.0
PRODID:-//Comunidade Sementes do Verbo - ECPv6.15.20//NONSGML v1.0//EN
CALSCALE:GREGORIAN
METHOD:PUBLISH
X-WR-CALNAME:Comunidade Sementes do Verbo
X-ORIGINAL-URL:https://sementesdoverbo.org
X-WR-CALDESC:Eventos para Comunidade Sementes do Verbo
REFRESH-INTERVAL;VALUE=DURATION:PT1H
X-Robots-Tag:noindex
X-PUBLISHED-TTL:PT1H
BEGIN:VTIMEZONE
TZID:America/Sao_Paulo
BEGIN:STANDARD
TZOFFSETFROM:-0300
TZOFFSETTO:-0300
TZNAME:-03
DTSTART:20230101T000000
END:STANDARD
END:VTIMEZONE
BEGIN:VEVENT
DTSTART;TZID=America/Sao_Paulo:20240328T080000
DTEND;TZID=America/Sao_Paulo:20240331T170000
DTSTAMP:20260424T180006
CREATED:20240319T100210Z
LAST-MODIFIED:20240319T100210Z
UID:2953-1711612800-1711904400@sementesdoverbo.org
SUMMARY:Paasretraite “Herschep mij Heer!” in deze paastridüum
DESCRIPTION:“In het begin schiep God de hemel en de\naarde.” Gen. 1\,1
URL:https://sementesdoverbo.org/eventos/paasretraite-herschep-mij-heer-in-deze-paastriduum/
LOCATION:Zaden Van Het Woord\, Clarastraat 1\, 3700 Tongeren - Be\, Tongeren\, 3700\, Bélgica
END:VEVENT
BEGIN:VEVENT
DTSTART;TZID=America/Sao_Paulo:20240323T080000
DTEND;TZID=America/Sao_Paulo:20240323T170000
DTSTAMP:20260424T180006
CREATED:20240319T103240Z
LAST-MODIFIED:20240319T103240Z
UID:2981-1711180800-1711213200@sementesdoverbo.org
SUMMARY:Sabbatical Day
DESCRIPTION:“Ano da Construção ou da Reconstrução”
URL:https://sementesdoverbo.org/eventos/sabbatical-day-2/
LOCATION:Santa Dulce dos Pobres\, Av Estrela Branca 215 Santa Maria - Belford Roxo - RJ\, Nova Iguaçú\, Rio de Janeiro\, Brasil
END:VEVENT
BEGIN:VEVENT
DTSTART;TZID=America/Sao_Paulo:20240323T000000
DTEND;TZID=America/Sao_Paulo:20240323T000000
DTSTAMP:20260424T180006
CREATED:20240301T134954Z
LAST-MODIFIED:20240323T210851Z
UID:2277-1711152000-1711152000@sementesdoverbo.org
SUMMARY:Recria-me II - Indentidade\, Afetividade e Sexualidade
DESCRIPTION:
URL:https://sementesdoverbo.org/eventos/recria-me-ii-indentidade-afetividade-e-sexualidade/
LOCATION:tocantins
CATEGORIES:Retiro de cura
ATTACH;FMTTYPE=image/png:https://sementesdoverbo.org/wp-content/uploads/2024/03/Recria-me-I-No-principio-Deus.png
END:VEVENT
BEGIN:VEVENT
DTSTART;TZID=America/Sao_Paulo:20240319T090000
DTEND;TZID=America/Sao_Paulo:20240319T170000
DTSTAMP:20260424T180006
CREATED:20240319T102958Z
LAST-MODIFIED:20240319T102958Z
UID:2979-1710838800-1710867600@sementesdoverbo.org
SUMMARY:Deserto para Homens
DESCRIPTION:” José guardião dos tesouros de Deus”
URL:https://sementesdoverbo.org/eventos/deserto-para-homens/
LOCATION:Santa Dulce dos Pobres\, Av Estrela Branca 215 Santa Maria - Belford Roxo - RJ\, Nova Iguaçú\, Rio de Janeiro\, Brasil
CATEGORIES:Retiro
END:VEVENT
BEGIN:VEVENT
DTSTART;VALUE=DATE:20240309
DTEND;VALUE=DATE:20240310
DTSTAMP:20260424T180006
CREATED:20240604T095803Z
LAST-MODIFIED:20240604T095833Z
UID:4497-1709942400-1710028799@sementesdoverbo.org
SUMMARY:Deserto para mulheres
DESCRIPTION:“Mulheres segundo o coração de\nDeus”
URL:https://sementesdoverbo.org/eventos/deserto-para-mulheres-2/
LOCATION:Maria de Loreto\, Rodovia AM 010\, Km 26 Manaus - AM\, Manaus\, Amazônia\, Brasil
CATEGORIES:Retiro
END:VEVENT
BEGIN:VEVENT
DTSTART;TZID=America/Sao_Paulo:20240302T093000
DTEND;TZID=America/Sao_Paulo:20240302T163000
DTSTAMP:20260424T180006
CREATED:20240319T095816Z
LAST-MODIFIED:20240319T095816Z
UID:2951-1709371800-1709397000@sementesdoverbo.org
SUMMARY:Bezinningsdag voor mannen
DESCRIPTION:Mannen van het Woord\n“Ontwaakt uit de slaap deed Jozef zoals\nde engel van de Heer hem bevolen had”\nMat. 1\,24
URL:https://sementesdoverbo.org/eventos/bezinningsdag-voor-mannen/
LOCATION:Zaden Van Het Woord\, Clarastraat 1\, 3700 Tongeren - Be\, Tongeren\, 3700\, Bélgica
END:VEVENT
BEGIN:VEVENT
DTSTART;TZID=America/Sao_Paulo:20240301T183000
DTEND;TZID=America/Sao_Paulo:20240303T140000
DTSTAMP:20260424T180006
CREATED:20240319T113119Z
LAST-MODIFIED:20240604T094852Z
UID:3021-1709317800-1709474400@sementesdoverbo.org
SUMMARY:Recria-me II - Identidade\, Afetividade e Sexualidade
DESCRIPTION:
URL:https://sementesdoverbo.org/eventos/recria-me-ii-identidade-afetividade-e-sexualidade/
LOCATION:Convento Nossa Senhora do Carmo\, TV. Dom Bosco\, 72 - Cidade Velha\, Belém - PA\, Belém\, Pará\, 66020 - 210\, Brasil
CATEGORIES:Retiro de cura
END:VEVENT
BEGIN:VEVENT
DTSTART;TZID=America/Sao_Paulo:20240227T080000
DTEND;TZID=America/Sao_Paulo:20240228T170000
DTSTAMP:20260424T180006
CREATED:20240319T095201Z
LAST-MODIFIED:20240319T103622Z
UID:2943-1709020800-1709139600@sementesdoverbo.org
SUMMARY:Spaghettiweekend
DESCRIPTION:spaghettiweekend\, ondersteunt u\nrechtstreeks de missies van de\nGemeenschap Zaden van het Woord in\nBelgië\, maar ook in de Filipijnen \nZa: 11.30u – 15u; 17u-19u \nZo: 11.30u – 15u;
URL:https://sementesdoverbo.org/eventos/spaghettiweekend/
LOCATION:Zaden Van Het Woord\, Clarastraat 1\, 3700 Tongeren - Be\, Tongeren\, 3700\, Bélgica
END:VEVENT
BEGIN:VEVENT
DTSTART;TZID=America/Sao_Paulo:20240224T093000
DTEND;TZID=America/Sao_Paulo:20240224T163000
DTSTAMP:20260424T180006
CREATED:20240319T095655Z
LAST-MODIFIED:20240319T095655Z
UID:2949-1708767000-1708792200@sementesdoverbo.org
SUMMARY:Bezinningsdag Op weg naar Pasen
DESCRIPTION:“Vurig heb ik verlangd\, eer Ik ga lijden\,\ndit paasmaal met u te eten.” Lc. 22\,15
URL:https://sementesdoverbo.org/eventos/bezinningsdag-op-weg-naar-pasen/
LOCATION:Zaden Van Het Woord\, Clarastraat 1\, 3700 Tongeren - Be\, Tongeren\, 3700\, Bélgica
END:VEVENT
BEGIN:VEVENT
DTSTART;TZID=America/Sao_Paulo:20240224T090000
DTEND;TZID=America/Sao_Paulo:20240224T170000
DTSTAMP:20260424T180006
CREATED:20240319T102840Z
LAST-MODIFIED:20240319T102840Z
UID:2977-1708765200-1708794000@sementesdoverbo.org
SUMMARY:Bazar Beneficente
DESCRIPTION:“Deus ama quem da com alegria”\n2 cor 9\,7
URL:https://sementesdoverbo.org/eventos/bazar-beneficente-2/
LOCATION:Santa Dulce dos Pobres\, Av Estrela Branca 215 Santa Maria - Belford Roxo - RJ\, Nova Iguaçú\, Rio de Janeiro\, Brasil
CATEGORIES:Eventos
END:VEVENT
BEGIN:VEVENT
DTSTART;TZID=America/Sao_Paulo:20240217T120000
DTEND;TZID=America/Sao_Paulo:20240217T150000
DTSTAMP:20260424T180006
CREATED:20240319T112942Z
LAST-MODIFIED:20240319T112942Z
UID:3019-1708171200-1708182000@sementesdoverbo.org
SUMMARY:Santa Missa do Início do Ano Sabático
DESCRIPTION:
URL:https://sementesdoverbo.org/eventos/santa-missa-do-inicio-do-ano-sabatico/
LOCATION:Convento Nossa Senhora do Carmo\, TV. Dom Bosco\, 72 - Cidade Velha\, Belém - PA\, Belém\, Pará\, 66020 - 210\, Brasil
CATEGORIES:Ano Sabático
END:VEVENT
BEGIN:VEVENT
DTSTART;TZID=America/Sao_Paulo:20240216T160000
DTEND;TZID=America/Sao_Paulo:20240217T160000
DTSTAMP:20260424T180006
CREATED:20240319T095534Z
LAST-MODIFIED:20240319T095534Z
UID:2947-1708099200-1708185600@sementesdoverbo.org
SUMMARY:Tienerweekend
DESCRIPTION:“Kom & Zie” (Cf. Joh. 1\,46) \nVoor tieners van 13 tot 15 jaar.
URL:https://sementesdoverbo.org/eventos/tienerweekend/
LOCATION:Zaden Van Het Woord\, Clarastraat 1\, 3700 Tongeren - Be\, Tongeren\, 3700\, Bélgica
END:VEVENT
BEGIN:VEVENT
DTSTART;TZID=America/Sao_Paulo:20240210T080000
DTEND;TZID=America/Sao_Paulo:20240210T170000
DTSTAMP:20260424T180006
CREATED:20240319T102723Z
LAST-MODIFIED:20240319T102723Z
UID:2975-1707552000-1707584400@sementesdoverbo.org
SUMMARY:Sabbatical Day
DESCRIPTION:“O Ano da Graça do Senhor”
URL:https://sementesdoverbo.org/eventos/sabbatical-day/
LOCATION:Santa Dulce dos Pobres\, Av Estrela Branca 215 Santa Maria - Belford Roxo - RJ\, Nova Iguaçú\, Rio de Janeiro\, Brasil
CATEGORIES:Retiro de Discernimento
END:VEVENT
BEGIN:VEVENT
DTSTART;TZID=America/Sao_Paulo:20240209T200000
DTEND;TZID=America/Sao_Paulo:20240211T160000
DTSTAMP:20260424T180006
CREATED:20240319T095350Z
LAST-MODIFIED:20240319T095350Z
UID:2945-1707508800-1707667200@sementesdoverbo.org
SUMMARY:Jongerenweekend
DESCRIPTION:“Wat moet ik doen\, Heer?” Hand. 22\,10 \nVoor jongvolwassenen
URL:https://sementesdoverbo.org/eventos/jongerenweekend/
LOCATION:Zaden Van Het Woord\, Clarastraat 1\, 3700 Tongeren - Be\, Tongeren\, 3700\, Bélgica
END:VEVENT
BEGIN:VEVENT
DTSTART;TZID=America/Sao_Paulo:20240209T180000
DTEND;TZID=America/Sao_Paulo:20240213T150000
DTSTAMP:20260424T180006
CREATED:20240117T120853Z
LAST-MODIFIED:20240323T212632Z
UID:305-1707501600-1707836400@sementesdoverbo.org
SUMMARY:Festival de Jovens
DESCRIPTION:O Festival de Jovens é o encontro anual da juventude Sementes do Verbo e de jovens de todo Brasil\, que desejam uma experiência de profundidade com a Palavra de Deus. Acontece todos os anos no período do Carnaval. Os cinco dias de Festival são marcados por formações\, partilhas\, liturgia\, oficinas artísticas e muito mais!  \n\n\n\nEm 2024\, o Festival traz como tema: “Sinfonia da oração”. O evento acontecerá presencialmente\, nas nossas casas de missão em Palmas/TO\, Belém/PA\, Rio de Janeiro/RJ e Manaus/AM. \n\n\n\nFaça a sua inscrição e viva esta experiência única com Deus!
URL:https://sementesdoverbo.org/eventos/festival-de-jovens/
LOCATION:tocantins
CATEGORIES:Festival
ATTACH;FMTTYPE=image/png:https://sementesdoverbo.org/wp-content/uploads/2024/02/1.png
END:VEVENT
BEGIN:VEVENT
DTSTART;TZID=America/Sao_Paulo:20240127T180000
DTEND;TZID=America/Sao_Paulo:20240128T150000
DTSTAMP:20260424T180006
CREATED:20240318T163604Z
LAST-MODIFIED:20240318T163604Z
UID:2931-1706378400-1706454000@sementesdoverbo.org
SUMMARY:Retiro para Catequistas
DESCRIPTION:
URL:https://sementesdoverbo.org/eventos/retiro-para-catequistas/
LOCATION:Santa Bakita\, Posto Administrativo de Dombe\, Distrito de Sussundenga\, Dombe\, Moçambique\, Brasil
CATEGORIES:Retiro
END:VEVENT
BEGIN:VEVENT
DTSTART;TZID=America/Sao_Paulo:20240127T080000
DTEND;TZID=America/Sao_Paulo:20240127T170000
DTSTAMP:20260424T180006
CREATED:20240318T163917Z
LAST-MODIFIED:20240319T094502Z
UID:2933-1706342400-1706374800@sementesdoverbo.org
SUMMARY:Bazar Beneficente
DESCRIPTION:“Deus ama quem dá com alegria” ( 2 cor 9\,7)
URL:https://sementesdoverbo.org/eventos/bazar-beneficente/
LOCATION:Santa Dulce dos Pobres\, Av Estrela Branca 215 Santa Maria - Belford Roxo - RJ\, Nova Iguaçú\, Rio de Janeiro\, Brasil
CATEGORIES:Eventos
END:VEVENT
BEGIN:VEVENT
DTSTART;TZID=America/Sao_Paulo:20240127T073000
DTEND;TZID=America/Sao_Paulo:20240127T160000
DTSTAMP:20260424T180006
CREATED:20240318T163149Z
LAST-MODIFIED:20240318T163441Z
UID:2928-1706340600-1706371200@sementesdoverbo.org
SUMMARY:Retiro com funcionários do Hospital
DESCRIPTION:
URL:https://sementesdoverbo.org/eventos/retiro-com-funcionarios-do-hospital/
LOCATION:Santa Bakita\, Posto Administrativo de Dombe\, Distrito de Sussundenga\, Dombe\, Moçambique\, Brasil
CATEGORIES:Retiro
END:VEVENT
BEGIN:VEVENT
DTSTART;TZID=America/Sao_Paulo:20240126T183000
DTEND;TZID=America/Sao_Paulo:20240128T140000
DTSTAMP:20260424T180006
CREATED:20240318T162609Z
LAST-MODIFIED:20240318T162610Z
UID:2922-1706293800-1706450400@sementesdoverbo.org
SUMMARY:Retiro "Senhor\, o que queres que eu faça?"
DESCRIPTION:
URL:https://sementesdoverbo.org/eventos/retiro-senhor-o-que-queres-que-eu-faca/
LOCATION:Convento Nossa Senhora do Carmo\, TV. Dom Bosco\, 72 - Cidade Velha\, Belém - PA\, Belém\, Pará\, 66020 - 210\, Brasil
CATEGORIES:Retiro de Discernimento
END:VEVENT
BEGIN:VEVENT
DTSTART;TZID=America/Sao_Paulo:20240126T180000
DTEND;TZID=America/Sao_Paulo:20240128T150000
DTSTAMP:20260424T180006
CREATED:20240318T162923Z
LAST-MODIFIED:20240318T162923Z
UID:2925-1706292000-1706454000@sementesdoverbo.org
SUMMARY:Seminário de Vida no Espírito Santo
DESCRIPTION:“Recebereis uma força do alto” (At 1\,8) \n 
URL:https://sementesdoverbo.org/eventos/seminario-de-vida-no-espirito-santo/
LOCATION:Monte Tabor\, Tv do Cruzeiro\, 404\, Cruzeiro. Belém - PA\, Belém\, Pará\, 66810-010\, Brasil
END:VEVENT
BEGIN:VEVENT
DTSTART;TZID=America/Sao_Paulo:20240125T100000
DTEND;TZID=America/Sao_Paulo:20240125T150000
DTSTAMP:20260424T180006
CREATED:20240317T150008Z
LAST-MODIFIED:20251030T160815Z
UID:2258-1706176800-1706194800@sementesdoverbo.org
SUMMARY:Início do Ano Sabático
DESCRIPTION:
URL:https://sementesdoverbo.org/eventos/inicio-ano-sabatico-manaus/
LOCATION:Maria de Loreto\, Rodovia AM 010\, Km 26 Manaus - AM\, Manaus\, Amazônia\, Brasil
CATEGORIES:Ano Sabático
END:VEVENT
BEGIN:VEVENT
DTSTART;TZID=America/Sao_Paulo:20240120T093000
DTEND;TZID=America/Sao_Paulo:20240120T163000
DTSTAMP:20260424T180006
CREATED:20240319T094141Z
LAST-MODIFIED:20240319T094400Z
UID:2937-1705743000-1705768200@sementesdoverbo.org
SUMMARY:Bezinningsdag Het Woord Van God
DESCRIPTION:“De Bijbel lezen\, naar het Woord luisteren”
URL:https://sementesdoverbo.org/eventos/bezinningsdag-het-woord-van-god/
LOCATION:Zaden Van Het Woord\, Clarastraat 1\, 3700 Tongeren - Be\, Tongeren\, 3700\, Bélgica
CATEGORIES:Retiro
END:VEVENT
BEGIN:VEVENT
DTSTART;TZID=America/Sao_Paulo:20240105T170000
DTEND;TZID=America/Sao_Paulo:20240107T140000
DTSTAMP:20260424T180006
CREATED:20240319T094907Z
LAST-MODIFIED:20240604T094735Z
UID:2941-1704474000-1704636000@sementesdoverbo.org
SUMMARY:Kinderweekwnd
DESCRIPTION:“Maak Jezus Blij!” \n 
URL:https://sementesdoverbo.org/eventos/kinderweekwnd/
LOCATION:Zaden Van Het Woord\, Clarastraat 1\, 3700 Tongeren - Be\, Tongeren\, 3700\, Bélgica
CATEGORIES:Retiro
END:VEVENT
END:VCALENDAR