BEGIN:VCALENDAR
VERSION:2.0
PRODID:-//Comunidade Sementes do Verbo - ECPv6.15.20//NONSGML v1.0//EN
CALSCALE:GREGORIAN
METHOD:PUBLISH
X-WR-CALNAME:Comunidade Sementes do Verbo
X-ORIGINAL-URL:https://sementesdoverbo.org
X-WR-CALDESC:Eventos para Comunidade Sementes do Verbo
REFRESH-INTERVAL;VALUE=DURATION:PT1H
X-Robots-Tag:noindex
X-PUBLISHED-TTL:PT1H
BEGIN:VTIMEZONE
TZID:America/Sao_Paulo
BEGIN:STANDARD
TZOFFSETFROM:-0300
TZOFFSETTO:-0300
TZNAME:-03
DTSTART:20230101T000000
END:STANDARD
END:VTIMEZONE
BEGIN:VEVENT
DTSTART;TZID=America/Sao_Paulo:20240808T080000
DTEND;TZID=America/Sao_Paulo:20240808T170000
DTSTAMP:20260424T142625
CREATED:20240319T111408Z
LAST-MODIFIED:20240319T111408Z
UID:3004-1723104000-1723136400@sementesdoverbo.org
SUMMARY:Sabbatical Day
DESCRIPTION:“O Coração de Jesus\, Centro de nossa\nVocação”
URL:https://sementesdoverbo.org/eventos/sabbatical-day-6/
LOCATION:Santa Dulce dos Pobres\, Av Estrela Branca 215 Santa Maria - Belford Roxo - RJ\, Nova Iguaçú\, Rio de Janeiro\, Brasil
CATEGORIES:Retiro de Discernimento
END:VEVENT
BEGIN:VEVENT
DTSTART;TZID=America/Sao_Paulo:20240806T080000
DTEND;TZID=America/Sao_Paulo:20240808T170000
DTSTAMP:20260424T142625
CREATED:20240604T102008Z
LAST-MODIFIED:20240604T102008Z
UID:4521-1722931200-1723136400@sementesdoverbo.org
SUMMARY:Acampamento Hoje Livre Sou
DESCRIPTION:“Se\, portanto\, o Filho vos libertar\, sereis verdadeiramente livres.” Jo 8\,36
URL:https://sementesdoverbo.org/eventos/acampamento-hoje-livre-sou/
LOCATION:Maria de Loreto\, Rodovia AM 010\, Km 26 Manaus - AM\, Manaus\, Amazônia\, Brasil
CATEGORIES:Festival
END:VEVENT
BEGIN:VEVENT
DTSTART;TZID=America/Sao_Paulo:20240803T080000
DTEND;TZID=America/Sao_Paulo:20240804T170000
DTSTAMP:20260424T142625
CREATED:20240604T101840Z
LAST-MODIFIED:20240604T101840Z
UID:4519-1722672000-1722790800@sementesdoverbo.org
SUMMARY:Retiro para Profissionais da saúde
DESCRIPTION:“A vida do corpo é a alma\, a vida da alma é Deus” Santo Agostinho
URL:https://sementesdoverbo.org/eventos/retiro-para-profissionais-da-saude/
LOCATION:Maria de Loreto\, Rodovia AM 010\, Km 26 Manaus - AM\, Manaus\, Amazônia\, Brasil
CATEGORIES:Retiro
END:VEVENT
BEGIN:VEVENT
DTSTART;TZID=America/Sao_Paulo:20240727T150000
DTEND;TZID=America/Sao_Paulo:20240727T170000
DTSTAMP:20260424T142625
CREATED:20240319T111115Z
LAST-MODIFIED:20240319T111115Z
UID:3000-1722092400-1722099600@sementesdoverbo.org
SUMMARY:Tarde Alegre
DESCRIPTION:Com vovô e a vovó
URL:https://sementesdoverbo.org/eventos/tarde-alegre/
LOCATION:Santa Dulce dos Pobres\, Av Estrela Branca 215 Santa Maria - Belford Roxo - RJ\, Nova Iguaçú\, Rio de Janeiro\, Brasil
CATEGORIES:Eventos
END:VEVENT
BEGIN:VEVENT
DTSTART;TZID=America/Sao_Paulo:20240726T080000
DTEND;TZID=America/Sao_Paulo:20240728T170000
DTSTAMP:20260424T142625
CREATED:20240604T101735Z
LAST-MODIFIED:20240604T101735Z
UID:4517-1721980800-1722186000@sementesdoverbo.org
SUMMARY:Na Escola da Oração com os Salmos
DESCRIPTION:“Escutai\, Senhor\, a voz de minha oração”
URL:https://sementesdoverbo.org/eventos/na-escola-da-oracao-com-os-salmos/
LOCATION:Maria de Loreto\, Rodovia AM 010\, Km 26 Manaus - AM\, Manaus\, Amazônia\, Brasil
CATEGORIES:Retiro
END:VEVENT
BEGIN:VEVENT
DTSTART;TZID=America/Sao_Paulo:20240719T080000
DTEND;TZID=America/Sao_Paulo:20240728T170000
DTSTAMP:20260424T142625
CREATED:20240319T102015Z
LAST-MODIFIED:20240319T102029Z
UID:2973-1721376000-1722186000@sementesdoverbo.org
SUMMARY:Festival voor Jongeren
DESCRIPTION:“Symfonie van Gebed” \nVoor jongvolwassenen\nGeorganiseerd door de Gemeenschap\nZaden van het Woord \nIn Vila Viçosa / Portugal\nGa je mee?
URL:https://sementesdoverbo.org/eventos/festival-voor-jongeren/
LOCATION:Zaden Van Het Woord\, Clarastraat 1\, 3700 Tongeren - Be\, Tongeren\, 3700\, Bélgica
CATEGORIES:Festival
END:VEVENT
BEGIN:VEVENT
DTSTART;VALUE=DATE:20240714
DTEND;VALUE=DATE:20240715
DTSTAMP:20260424T142625
CREATED:20240604T101501Z
LAST-MODIFIED:20240604T101501Z
UID:4515-1720915200-1721001599@sementesdoverbo.org
SUMMARY:Deserto para homens
DESCRIPTION:“Na escola de São José”
URL:https://sementesdoverbo.org/eventos/deserto-para-homens-2/
LOCATION:Maria de Loreto\, Rodovia AM 010\, Km 26 Manaus - AM\, Manaus\, Amazônia\, Brasil
CATEGORIES:Retiro
END:VEVENT
BEGIN:VEVENT
DTSTART;TZID=America/Sao_Paulo:20240707T080000
DTEND;TZID=America/Sao_Paulo:20240709T170000
DTSTAMP:20260424T142625
CREATED:20240604T101111Z
LAST-MODIFIED:20240604T101111Z
UID:4511-1720339200-1720544400@sementesdoverbo.org
SUMMARY:Recria-me II
DESCRIPTION:“Identidade\, Afetividade\, Sexualidade”
URL:https://sementesdoverbo.org/eventos/recria-me-ii/
LOCATION:Maria de Loreto\, Rodovia AM 010\, Km 26 Manaus - AM\, Manaus\, Amazônia\, Brasil
CATEGORIES:Retiro de cura
END:VEVENT
BEGIN:VEVENT
DTSTART;TZID=America/Sao_Paulo:20240705T170000
DTEND;TZID=America/Sao_Paulo:20240707T160000
DTSTAMP:20260424T142625
CREATED:20240319T101855Z
LAST-MODIFIED:20240319T101855Z
UID:2971-1720198800-1720368000@sementesdoverbo.org
SUMMARY:Familieweekend
DESCRIPTION:“Ik en mijn familie\, wij dienen de Heer.”\nJoz. 24\,15 \n 
URL:https://sementesdoverbo.org/eventos/familieweekend/
LOCATION:Zaden Van Het Woord\, Clarastraat 1\, 3700 Tongeren - Be\, Tongeren\, 3700\, Bélgica
END:VEVENT
BEGIN:VEVENT
DTSTART;TZID=America/Sao_Paulo:20240705T080000
DTEND;TZID=America/Sao_Paulo:20240707T170000
DTSTAMP:20260424T142625
CREATED:20240604T101337Z
LAST-MODIFIED:20250307T164736Z
UID:4513-1720166400-1720371600@sementesdoverbo.org
SUMMARY:Festival das Crianças
DESCRIPTION:“Faz a alegria de Jesus”
URL:https://sementesdoverbo.org/eventos/festival-das-criancas-2/
LOCATION:Maria de Loreto\, Rodovia AM 010\, Km 26 Manaus - AM\, Manaus\, Amazônia\, Brasil
CATEGORIES:Festival
END:VEVENT
BEGIN:VEVENT
DTSTART;TZID=America/Sao_Paulo:20240629T183000
DTEND;TZID=America/Sao_Paulo:20240629T213000
DTSTAMP:20260424T142625
CREATED:20240319T110812Z
LAST-MODIFIED:20240319T110812Z
UID:2998-1719685800-1719696600@sementesdoverbo.org
SUMMARY:Jantar para Casais
DESCRIPTION:“ Amar é Perdoar ”
URL:https://sementesdoverbo.org/eventos/jantar-para-casais/
LOCATION:Santa Dulce dos Pobres\, Av Estrela Branca 215 Santa Maria - Belford Roxo - RJ\, Nova Iguaçú\, Rio de Janeiro\, Brasil
CATEGORIES:Eventos
END:VEVENT
BEGIN:VEVENT
DTSTART;TZID=America/Sao_Paulo:20240622T093000
DTEND;TZID=America/Sao_Paulo:20240622T163000
DTSTAMP:20260424T142625
CREATED:20240319T101730Z
LAST-MODIFIED:20240319T101730Z
UID:2969-1719048600-1719073800@sementesdoverbo.org
SUMMARY:Bezinningsdag over liturgie
DESCRIPTION:E.H Eric Reynders\nDeken van dekenaat Tongeren
URL:https://sementesdoverbo.org/eventos/bezinningsdag-over-liturgie/
LOCATION:Zaden Van Het Woord\, Clarastraat 1\, 3700 Tongeren - Be\, Tongeren\, 3700\, Bélgica
END:VEVENT
BEGIN:VEVENT
DTSTART;TZID=America/Sao_Paulo:20240615T173000
DTEND;TZID=America/Sao_Paulo:20240615T210000
DTSTAMP:20260424T142625
CREATED:20240319T101638Z
LAST-MODIFIED:20240319T101638Z
UID:2967-1718472600-1718485200@sementesdoverbo.org
SUMMARY:Avond voor echtparen
DESCRIPTION:“Beminnen is vergeven” \nonderricht\, vespers en romantisch diner\nGeorganiseerd door de Gemeenschap\nZaden van het Woord
URL:https://sementesdoverbo.org/eventos/avond-voor-echtparen/
LOCATION:Zaden Van Het Woord\, Clarastraat 1\, 3700 Tongeren - Be\, Tongeren\, 3700\, Bélgica
END:VEVENT
BEGIN:VEVENT
DTSTART;TZID=America/Sao_Paulo:20240608T150000
DTEND;TZID=America/Sao_Paulo:20240608T210000
DTSTAMP:20260424T142625
CREATED:20240319T110716Z
LAST-MODIFIED:20240319T110716Z
UID:2996-1717858800-1717880400@sementesdoverbo.org
SUMMARY:Festa Junina
DESCRIPTION:” Com São João aprendendo a amar”
URL:https://sementesdoverbo.org/eventos/festa-junina/
LOCATION:Santa Dulce dos Pobres\, Av Estrela Branca 215 Santa Maria - Belford Roxo - RJ\, Nova Iguaçú\, Rio de Janeiro\, Brasil
CATEGORIES:Eventos
END:VEVENT
BEGIN:VEVENT
DTSTART;TZID=America/Sao_Paulo:20240608T093000
DTEND;TZID=America/Sao_Paulo:20240608T163000
DTSTAMP:20260424T142625
CREATED:20240319T101506Z
LAST-MODIFIED:20240319T101506Z
UID:2965-1717839000-1717864200@sementesdoverbo.org
SUMMARY:Bezinningsdag voor vrouwen
DESCRIPTION:“Vrouwen\, geroepen tot liefde”
URL:https://sementesdoverbo.org/eventos/bezinningsdag-voor-vrouwen/
LOCATION:Zaden Van Het Woord\, Clarastraat 1\, 3700 Tongeren - Be\, Tongeren\, 3700\, Bélgica
END:VEVENT
BEGIN:VEVENT
DTSTART;TZID=America/Sao_Paulo:20240608T080000
DTEND;TZID=America/Sao_Paulo:20240608T170000
DTSTAMP:20260424T142625
CREATED:20240319T110601Z
LAST-MODIFIED:20240319T110601Z
UID:2994-1717833600-1717866000@sementesdoverbo.org
SUMMARY:Sabbatical Day
DESCRIPTION:“Uma Comunidade Família “
URL:https://sementesdoverbo.org/eventos/sabbatical-day-5/
LOCATION:Santa Dulce dos Pobres\, Av Estrela Branca 215 Santa Maria - Belford Roxo - RJ\, Nova Iguaçú\, Rio de Janeiro\, Brasil
CATEGORIES:Retiro de Discernimento
END:VEVENT
BEGIN:VEVENT
DTSTART;TZID=America/Sao_Paulo:20240604T080000
DTEND;TZID=America/Sao_Paulo:20240604T170000
DTSTAMP:20260424T142625
CREATED:20240604T100609Z
LAST-MODIFIED:20240604T100829Z
UID:4507-1717488000-1717520400@sementesdoverbo.org
SUMMARY:Feijoada Dominus Day
DESCRIPTION:Santa Missa e Almoço em Família
URL:https://sementesdoverbo.org/eventos/feijoada-dominus-day/
LOCATION:Maria de Loreto\, Rodovia AM 010\, Km 26 Manaus - AM\, Manaus\, Amazônia\, Brasil
CATEGORIES:Eventos
END:VEVENT
BEGIN:VEVENT
DTSTART;TZID=America/Sao_Paulo:20240604T080000
DTEND;TZID=America/Sao_Paulo:20240604T170000
DTSTAMP:20260424T142625
CREATED:20240604T100219Z
LAST-MODIFIED:20240604T100935Z
UID:4503-1717488000-1717520400@sementesdoverbo.org
SUMMARY:Retiro de Casais
DESCRIPTION:“Amar é perdoar”
URL:https://sementesdoverbo.org/eventos/retiro-de-casais/
LOCATION:Maria de Loreto\, Rodovia AM 010\, Km 26 Manaus - AM\, Manaus\, Amazônia\, Brasil
CATEGORIES:Retiro para casais
END:VEVENT
BEGIN:VEVENT
DTSTART;TZID=America/Sao_Paulo:20240525T080000
DTEND;TZID=America/Sao_Paulo:20240525T170000
DTSTAMP:20260424T142625
CREATED:20240319T110122Z
LAST-MODIFIED:20240319T110122Z
UID:2989-1716624000-1716656400@sementesdoverbo.org
SUMMARY:Deserto para Mulheres
DESCRIPTION:“Maria Mãe Auxiliadora”
URL:https://sementesdoverbo.org/eventos/deserto-para-mulheres/
LOCATION:Santa Dulce dos Pobres\, Av Estrela Branca 215 Santa Maria - Belford Roxo - RJ\, Nova Iguaçú\, Rio de Janeiro\, Brasil
CATEGORIES:Retiro
END:VEVENT
BEGIN:VEVENT
DTSTART;TZID=America/Sao_Paulo:20240510T193000
DTEND;TZID=America/Sao_Paulo:20240518T210000
DTSTAMP:20260424T142625
CREATED:20240319T101252Z
LAST-MODIFIED:20240319T103532Z
UID:2961-1715369400-1716066000@sementesdoverbo.org
SUMMARY:Grote Pinksternoveen
DESCRIPTION:“Maar gij zult kracht ontvangen van de heilige Geest die over u komt.” Hand. 1\, 8 \nvan 19u30\ntot 21u \nOp zaterdag 11\nen 18 mei om 18u
URL:https://sementesdoverbo.org/eventos/grote-pinksternoveen/
LOCATION:Zaden Van Het Woord\, Clarastraat 1\, 3700 Tongeren - Be\, Tongeren\, 3700\, Bélgica
END:VEVENT
BEGIN:VEVENT
DTSTART;TZID=America/Sao_Paulo:20240510T080000
DTEND;TZID=America/Sao_Paulo:20240518T170000
DTSTAMP:20260424T142625
CREATED:20240604T100739Z
LAST-MODIFIED:20240604T100739Z
UID:4509-1715328000-1716051600@sementesdoverbo.org
SUMMARY:Novena de Pentecostes
DESCRIPTION:Seminário de Vida no Espírito Santo
URL:https://sementesdoverbo.org/eventos/novena-de-pentecostes/
LOCATION:Maria de Loreto\, Rodovia AM 010\, Km 26 Manaus - AM\, Manaus\, Amazônia\, Brasil
END:VEVENT
BEGIN:VEVENT
DTSTART;TZID=America/Sao_Paulo:20240504T080000
DTEND;TZID=America/Sao_Paulo:20240504T170000
DTSTAMP:20260424T142625
CREATED:20240319T110030Z
LAST-MODIFIED:20240319T110030Z
UID:2987-1714809600-1714842000@sementesdoverbo.org
SUMMARY:Sabbatical Day
DESCRIPTION:“Vida Fraterna – Escola da Caridade\nde Cristo”
URL:https://sementesdoverbo.org/eventos/sabbatical-day-4/
LOCATION:Santa Dulce dos Pobres\, Av Estrela Branca 215 Santa Maria - Belford Roxo - RJ\, Nova Iguaçú\, Rio de Janeiro\, Brasil
CATEGORIES:Retiro de Discernimento
END:VEVENT
BEGIN:VEVENT
DTSTART;TZID=America/Sao_Paulo:20240427T093000
DTEND;TZID=America/Sao_Paulo:20240427T163000
DTSTAMP:20260424T142625
CREATED:20240319T100850Z
LAST-MODIFIED:20240319T100850Z
UID:2959-1714210200-1714235400@sementesdoverbo.org
SUMMARY:Bezinningsdag voor echtparen
DESCRIPTION:“Het gebed in het gezin”
URL:https://sementesdoverbo.org/eventos/bezinningsdag-voor-echtparen/
LOCATION:Zaden Van Het Woord\, Clarastraat 1\, 3700 Tongeren - Be\, Tongeren\, 3700\, Bélgica
END:VEVENT
BEGIN:VEVENT
DTSTART;TZID=America/Sao_Paulo:20240426T080000
DTEND;TZID=America/Sao_Paulo:20240428T170000
DTSTAMP:20260424T142625
CREATED:20240604T100506Z
LAST-MODIFIED:20240604T100901Z
UID:4505-1714118400-1714323600@sementesdoverbo.org
SUMMARY:Retiro do Carisma
DESCRIPTION:“Sinfonia da oração”
URL:https://sementesdoverbo.org/eventos/retiro-do-carisma/
LOCATION:Maria de Loreto\, Rodovia AM 010\, Km 26 Manaus - AM\, Manaus\, Amazônia\, Brasil
CATEGORIES:Retiro
END:VEVENT
BEGIN:VEVENT
DTSTART;TZID=America/Sao_Paulo:20240420T140000
DTEND;TZID=America/Sao_Paulo:20240420T170000
DTSTAMP:20260424T142625
CREATED:20240319T103434Z
LAST-MODIFIED:20240319T103434Z
UID:2985-1713621600-1713632400@sementesdoverbo.org
SUMMARY:Tarde com Maria
DESCRIPTION:“A caminho da Sta Redenção do Senhor”
URL:https://sementesdoverbo.org/eventos/tarde-com-maria/
LOCATION:Santa Dulce dos Pobres\, Av Estrela Branca 215 Santa Maria - Belford Roxo - RJ\, Nova Iguaçú\, Rio de Janeiro\, Brasil
CATEGORIES:Retiro
END:VEVENT
BEGIN:VEVENT
DTSTART;TZID=America/Sao_Paulo:20240418T090000
DTEND;TZID=America/Sao_Paulo:20240419T150000
DTSTAMP:20260424T142625
CREATED:20240319T101352Z
LAST-MODIFIED:20240319T101352Z
UID:2963-1713430800-1713538800@sementesdoverbo.org
SUMMARY:Creatief op weg met de Heilige Geest
DESCRIPTION:“Zingt voor de Heer een nieuw gezang!”
URL:https://sementesdoverbo.org/eventos/creatief-op-weg-met-de-heilige-geest/
LOCATION:Zaden Van Het Woord\, Clarastraat 1\, 3700 Tongeren - Be\, Tongeren\, 3700\, Bélgica
END:VEVENT
BEGIN:VEVENT
DTSTART;TZID=America/Sao_Paulo:20240413T080000
DTEND;TZID=America/Sao_Paulo:20240413T170000
DTSTAMP:20260424T142625
CREATED:20240319T103331Z
LAST-MODIFIED:20240319T103331Z
UID:2983-1712995200-1713027600@sementesdoverbo.org
SUMMARY:Sabbatical Day
DESCRIPTION:“Escola da Virgem Maria”
URL:https://sementesdoverbo.org/eventos/sabbatical-day-3/
LOCATION:Santa Dulce dos Pobres\, Av Estrela Branca 215 Santa Maria - Belford Roxo - RJ\, Nova Iguaçú\, Rio de Janeiro\, Brasil
CATEGORIES:Retiro de Discernimento
END:VEVENT
BEGIN:VEVENT
DTSTART;TZID=America/Sao_Paulo:20240412T200000
DTEND;TZID=America/Sao_Paulo:20240414T160000
DTSTAMP:20260424T142625
CREATED:20240319T100352Z
LAST-MODIFIED:20240319T100352Z
UID:2956-1712952000-1713110400@sementesdoverbo.org
SUMMARY:Jongerenweekend Jezus Leeft!
DESCRIPTION:“Alles wat hij aanraakt\, wordt jong\,\nwordt nieuw\, is vervuld van leven.”\nChristus Vivit nr. 1
URL:https://sementesdoverbo.org/eventos/jongerenweekend-jezus-leeft/
LOCATION:Zaden Van Het Woord\, Clarastraat 1\, 3700 Tongeren - Be\, Tongeren\, 3700\, Bélgica
END:VEVENT
BEGIN:VEVENT
DTSTART;TZID=America/Sao_Paulo:20240328T183000
DTEND;TZID=America/Sao_Paulo:20240331T140000
DTSTAMP:20260424T142625
CREATED:20240319T113424Z
LAST-MODIFIED:20240604T095130Z
UID:3024-1711650600-1711893600@sementesdoverbo.org
SUMMARY:Retiro de Páscoa
DESCRIPTION:“Minha alma deseja o Deus vivo.”  Sl 41\,3
URL:https://sementesdoverbo.org/eventos/retiro-de-pascoa/
LOCATION:Convento Nossa Senhora do Carmo\, TV. Dom Bosco\, 72 - Cidade Velha\, Belém - PA\, Belém\, Pará\, 66020 - 210\, Brasil
CATEGORIES:Retiro
END:VEVENT
BEGIN:VEVENT
DTSTART;TZID=America/Sao_Paulo:20240328T080000
DTEND;TZID=America/Sao_Paulo:20240331T170000
DTSTAMP:20260424T142625
CREATED:20240604T100029Z
LAST-MODIFIED:20240604T101006Z
UID:4500-1711612800-1711904400@sementesdoverbo.org
SUMMARY:Retiro de Páscoa
DESCRIPTION:“Estaremos para sempre com o Senhor ” 1Ts 4\, 17
URL:https://sementesdoverbo.org/eventos/retiro-de-pascoa-2/
LOCATION:Maria de Loreto\, Rodovia AM 010\, Km 26 Manaus - AM\, Manaus\, Amazônia\, Brasil
END:VEVENT
END:VCALENDAR