BEGIN:VCALENDAR
VERSION:2.0
PRODID:-//Comunidade Sementes do Verbo - ECPv6.15.20//NONSGML v1.0//EN
CALSCALE:GREGORIAN
METHOD:PUBLISH
X-ORIGINAL-URL:https://sementesdoverbo.org
X-WR-CALDESC:Eventos para Comunidade Sementes do Verbo
REFRESH-INTERVAL;VALUE=DURATION:PT1H
X-Robots-Tag:noindex
X-PUBLISHED-TTL:PT1H
BEGIN:VTIMEZONE
TZID:America/Sao_Paulo
BEGIN:STANDARD
TZOFFSETFROM:-0300
TZOFFSETTO:-0300
TZNAME:-03
DTSTART:20240101T000000
END:STANDARD
END:VTIMEZONE
BEGIN:VEVENT
DTSTART;TZID=America/Sao_Paulo:20251229T080000
DTEND;TZID=America/Sao_Paulo:20260101T140000
DTSTAMP:20260424T030541
CREATED:20250227T222812Z
LAST-MODIFIED:20250307T130818Z
UID:9884-1766995200-1767276000@sementesdoverbo.org
SUMMARY:Brasil-PA | Retiro de Ano Novo: Recria-me com São João
DESCRIPTION:Retiro de Ano Novo | Recria-me com São João\n“Que a vossa alegria seja completa” (1 Jo 1\,2) \nPregado pelos missionários SdV
URL:https://sementesdoverbo.org/eventos/brasil-pa-retiro-de-ano-novo-recria-me-com-sao-joao/
LOCATION:Monte Tabor\, Tv do Cruzeiro\, 404\, Cruzeiro. Belém - PA\, Belém\, Pará\, 66810-010\, Brasil
CATEGORIES:Retiro
END:VEVENT
BEGIN:VEVENT
DTSTART;TZID=America/Sao_Paulo:20251229T080000
DTEND;TZID=America/Sao_Paulo:20260101T150000
DTSTAMP:20260424T030541
CREATED:20250227T201911Z
LAST-MODIFIED:20250413T154310Z
UID:9840-1766995200-1767279600@sementesdoverbo.org
SUMMARY:Brasil-TO | Retiro de Ano Novo
DESCRIPTION:Pregado pela Comunidade Sementes do Verbo\n“Passar do desespero e vazio para a esperança e a confiança!”
URL:https://sementesdoverbo.org/eventos/brasil-to-retiro-de-ano-novo/
LOCATION:Évora
CATEGORIES:Retiro
END:VEVENT
BEGIN:VEVENT
DTSTART;TZID=America/Sao_Paulo:20251230T080000
DTEND;TZID=America/Sao_Paulo:20260101T140000
DTSTAMP:20260424T030541
CREATED:20250307T163626Z
LAST-MODIFIED:20260219T155423Z
UID:10133-1767081600-1767276000@sementesdoverbo.org
SUMMARY:BRASIL | PA - Retiro de ano novo |Seminário de Vida no Espírito Santo
DESCRIPTION:Retiro de ano novo |Seminário de Vida no Espírito Santo\n“Que pela ação do Espírito Santo a vossa esperança transborde.” (Rm 15\,13)\n\nPregado pelos Seminaristas SdV
URL:https://sementesdoverbo.org/eventos/brasil-pa-retiro-de-ano-novo-seminario-de-vida-no-espirito-santo/
LOCATION:Convento Nossa Senhora do Carmo\, TV. Dom Bosco\, 72 - Cidade Velha\, Belém - PA\, Belém\, Pará\, 66020 - 210\, Brasil
CATEGORIES:Retiro
END:VEVENT
END:VCALENDAR