BEGIN:VCALENDAR
VERSION:2.0
PRODID:-//Comunidade Sementes do Verbo - ECPv6.15.20//NONSGML v1.0//EN
CALSCALE:GREGORIAN
METHOD:PUBLISH
X-ORIGINAL-URL:https://sementesdoverbo.org
X-WR-CALDESC:Eventos para Comunidade Sementes do Verbo
REFRESH-INTERVAL;VALUE=DURATION:PT1H
X-Robots-Tag:noindex
X-PUBLISHED-TTL:PT1H
BEGIN:VTIMEZONE
TZID:America/Sao_Paulo
BEGIN:STANDARD
TZOFFSETFROM:-0300
TZOFFSETTO:-0300
TZNAME:-03
DTSTART:20250101T000000
END:STANDARD
END:VTIMEZONE
BEGIN:VEVENT
DTSTART;TZID=America/Sao_Paulo:20260410T183000
DTEND;TZID=America/Sao_Paulo:20260412T140000
DTSTAMP:20260424T125502
CREATED:20260326T153843Z
LAST-MODIFIED:20260326T153843Z
UID:21535-1775845800-1776002400@sementesdoverbo.org
SUMMARY:África – Tete | Recria-me I
DESCRIPTION:“No princípio\, Deus…” (Gn 1\,1) \nPregado pela comunidade Sementes do Verbo
URL:https://sementesdoverbo.org/eventos/africa-tete-recria-me-i/
LOCATION:SANTUARIO SÃO JOSÉ DE BOROMA\, Santuário São José de Boroma\, Localidade de Boroma\, Distrito de Marara\, Tete- Moçambique\, tete\, Moçambique\, South Africa
CATEGORIES:Retiro de cura
END:VEVENT
END:VCALENDAR