BEGIN:VCALENDAR
VERSION:2.0
PRODID:-//Comunidade Sementes do Verbo - ECPv6.15.20//NONSGML v1.0//EN
CALSCALE:GREGORIAN
METHOD:PUBLISH
X-ORIGINAL-URL:https://sementesdoverbo.org
X-WR-CALDESC:Eventos para Comunidade Sementes do Verbo
REFRESH-INTERVAL;VALUE=DURATION:PT1H
X-Robots-Tag:noindex
X-PUBLISHED-TTL:PT1H
BEGIN:VTIMEZONE
TZID:America/Sao_Paulo
BEGIN:STANDARD
TZOFFSETFROM:-0300
TZOFFSETTO:-0300
TZNAME:-03
DTSTART:20250101T000000
END:STANDARD
END:VTIMEZONE
BEGIN:VEVENT
DTSTART;TZID=America/Sao_Paulo:20260605T183000
DTEND;TZID=America/Sao_Paulo:20260607T150000
DTSTAMP:20260424T003939
CREATED:20260115T152707Z
LAST-MODIFIED:20260115T152707Z
UID:20555-1780684200-1780844400@sementesdoverbo.org
SUMMARY:Manaus - Loreto | Retiro Recria-me II
DESCRIPTION:Retiro Recria-me II \nIdentidade\, Afetividade e Sexualidade \nPregado por Pe. João Batista\, Ir. Giovana e Rosivan
URL:https://sementesdoverbo.org/eventos/manaus-loreto-retiro-recria-me-ii/
LOCATION:Maria de Loreto\, Rodovia AM 010\, Km 26 Manaus - AM\, Manaus\, Amazônia\, Brasil
CATEGORIES:Retiro de cura
END:VEVENT
BEGIN:VEVENT
DTSTART;TZID=America/Sao_Paulo:20260619T080000
DTEND;TZID=America/Sao_Paulo:20260621T150000
DTSTAMP:20260424T003939
CREATED:20260110T170707Z
LAST-MODIFIED:20260110T170707Z
UID:20491-1781856000-1782054000@sementesdoverbo.org
SUMMARY:África - Dombe | Recria- me II
DESCRIPTION:Recria- me II \n“Identidade\, afetividade e sexualidade” \nPregado por Ir. Noemi e Luis Phellipi
URL:https://sementesdoverbo.org/eventos/africa-dombe-recria-me-ii/
LOCATION:Santa Bakita\, Posto Administrativo de Dombe\, Distrito de Sussundenga\, Dombe\, Moçambique\, Brasil
CATEGORIES:Retiro de cura
END:VEVENT
BEGIN:VEVENT
DTSTART;TZID=America/Sao_Paulo:20260626T183000
DTEND;TZID=America/Sao_Paulo:20260628T140000
DTSTAMP:20260424T003939
CREATED:20260116T161723Z
LAST-MODIFIED:20260116T161847Z
UID:20605-1782498600-1782655200@sementesdoverbo.org
SUMMARY:Pará - Carmo | Retiro de cura Recria-me II
DESCRIPTION:Retiro de cura Recria-me II: \nIdentidade\, Afetividade e Sexualidade \n“A ternura é o toque de Deus na fragilidade humana.” (Papa Francisco)
URL:https://sementesdoverbo.org/eventos/para-carmo-retiro-de-cura-recria-me-ii/
LOCATION:Convento Nossa Senhora do Carmo\, TV. Dom Bosco\, 72 - Cidade Velha\, Belém - PA\, Belém\, Pará\, 66020 - 210\, Brasil
CATEGORIES:Retiro de cura
END:VEVENT
END:VCALENDAR