BEGIN:VCALENDAR
VERSION:2.0
PRODID:-//Comunidade Sementes do Verbo - ECPv6.15.20//NONSGML v1.0//EN
CALSCALE:GREGORIAN
METHOD:PUBLISH
X-WR-CALNAME:Comunidade Sementes do Verbo
X-ORIGINAL-URL:https://sementesdoverbo.org
X-WR-CALDESC:Eventos para Comunidade Sementes do Verbo
REFRESH-INTERVAL;VALUE=DURATION:PT1H
X-Robots-Tag:noindex
X-PUBLISHED-TTL:PT1H
BEGIN:VTIMEZONE
TZID:America/Sao_Paulo
BEGIN:STANDARD
TZOFFSETFROM:-0300
TZOFFSETTO:-0300
TZNAME:-03
DTSTART:20230101T000000
END:STANDARD
END:VTIMEZONE
BEGIN:VEVENT
DTSTART;TZID=America/Sao_Paulo:20240209T180000
DTEND;TZID=America/Sao_Paulo:20240213T150000
DTSTAMP:20260419T094331
CREATED:20240117T120853Z
LAST-MODIFIED:20240323T212632Z
UID:305-1707501600-1707836400@sementesdoverbo.org
SUMMARY:Festival de Jovens
DESCRIPTION:O Festival de Jovens é o encontro anual da juventude Sementes do Verbo e de jovens de todo Brasil\, que desejam uma experiência de profundidade com a Palavra de Deus. Acontece todos os anos no período do Carnaval. Os cinco dias de Festival são marcados por formações\, partilhas\, liturgia\, oficinas artísticas e muito mais!  \n\n\n\nEm 2024\, o Festival traz como tema: “Sinfonia da oração”. O evento acontecerá presencialmente\, nas nossas casas de missão em Palmas/TO\, Belém/PA\, Rio de Janeiro/RJ e Manaus/AM. \n\n\n\nFaça a sua inscrição e viva esta experiência única com Deus!
URL:https://sementesdoverbo.org/eventos/festival-de-jovens/
LOCATION:tocantins
CATEGORIES:Festival
ATTACH;FMTTYPE=image/png:https://sementesdoverbo.org/wp-content/uploads/2024/02/1.png
END:VEVENT
END:VCALENDAR